BEGIN:VCALENDAR
VERSION:2.0
PRODID:gruene-os.de
METHOD:PUBLISH
BEGIN:VTIMEZONE
TZID:Europe/Berlin
X-LIC-LOCATION:Europe/Berlin
BEGIN:DAYLIGHT
TZOFFSETFROM:+0100
TZOFFSETTO:+0200
TZNAME:CEST
DTSTART:19700329T020000
RRULE:FREQ=YEARLY;INTERVAL=1;BYDAY=-1SU;BYMONTH=3
END:DAYLIGHT
BEGIN:STANDARD
TZOFFSETFROM:+0200
TZOFFSETTO:+0100
TZNAME:CET
DTSTART:19701025T030000
RRULE:FREQ=YEARLY;INTERVAL=1;BYDAY=-1SU;BYMONTH=10
END:STANDARD
END:VTIMEZONE
BEGIN:VEVENT
UID:0c99a9b5838cf6b0b6da68199e4df9ee@gruene-os.de
URL;VALUE=URI:https://gruene-os.de/blog/termine/osnabrueck-wie-gehts-3/
LOCATION:Bürener Straße/Ecke Atterstraße in Eversburg
SUMMARY:Osnabrück, wie geht’s?
DESCRIPTION;ALTREP="data:text/html,%0A%3Cp%3E%3Cstrong%3EGR%C3%9CNE%20im%
 20Dialog%20vor%20Ort%3C%2Fstrong%3E%3C%2Fp%3E%0A%0A%0A%0A%3Cp%3E%3C%2Fp%3
 E%0A%0A%0A%0A%3Cp%3EUnter%20dem%20Motto%20%E2%80%9EOsnabr%C3%BCck%2C%20wi
 e%20geht%E2%80%99s%3F%E2%80%9C%20sind%20die%20GR%C3%9CNEN%20jeden%20zweit
 en%20Samstagvormittag%20an%20einem%20Ort%20in%20der%20Stadt%20unterwegs.%
 20Am%207.%20Dezember%20sind%20sie%20um%2011%20Uhr%20an%20der%20B%C3%BCren
 er%20Stra%C3%9Fe%2FEcke%20Atterstra%C3%9Fe%20in%20Eversburg.%3C%2Fp%3E%0A
 %0A%0A%0A%3Cp%3E%E2%80%9EWir%20wollen%20ins%20Gespr%C3%A4ch%20kommen%20un
 d%20Fragen%20rund%20um%20die%20Osnabr%C3%BCcker%20Stadtpolitik%20diskutie
 ren%2C%20informieren%20und%20Anliegen%20mitnehmen.%20Dazu%20laden%20wir%2
 0alle%20Interessierten%20ein%2C%20sprechen%20Sie%20uns%20an%21%E2%80%9C%2
 C%20erkl%C3%A4ren%20die%20Initiator%3Ainnen%20Luca%20Wirkus%2C%20Max%20St
 rautmann%20und%20Jurek%20Milde.%3C%2Fp%3E%0A%0A%0A%0A%3Cp%3E%3C%2Fp%3E%0A
 ":GRÜNE im Dialog vor Ort\n\nUnter dem Motto „Osnabrück\, wie geht’
 s?“ sind die GRÜNEN jeden zweiten Samstagvormittag an einem Ort in der
  Stadt unterwegs. Am 7. Dezember sind sie um 11 Uhr an der Bürener Stra
 ße/Ecke Atterstraße in Eversburg.\n\n„Wir wollen ins Gespräch kommen
  und Fragen rund um die Osnabrücker Stadtpolitik diskutieren\, informier
 en und Anliegen mitnehmen. Dazu laden wir alle Interessierten ein\, sprec
 hen Sie uns an!“\, erklären die Initiator:innen Luca Wirkus\, Max Stra
 utmann und Jurek Milde.
CLASS:PUBLIC
DTSTART;TZID=Europe/Berlin:20241207T110000
DTEND;TZID=Europe/Berlin:20241207T120000
DTSTAMP:20260424T195055
END:VEVENT
END:VCALENDAR