BEGIN:VCALENDAR
VERSION:2.0
PRODID:gruene-os.de
METHOD:PUBLISH
BEGIN:VTIMEZONE
TZID:Europe/Berlin
X-LIC-LOCATION:Europe/Berlin
BEGIN:DAYLIGHT
TZOFFSETFROM:+0100
TZOFFSETTO:+0200
TZNAME:CEST
DTSTART:19700329T020000
RRULE:FREQ=YEARLY;INTERVAL=1;BYDAY=-1SU;BYMONTH=3
END:DAYLIGHT
BEGIN:STANDARD
TZOFFSETFROM:+0200
TZOFFSETTO:+0100
TZNAME:CET
DTSTART:19701025T030000
RRULE:FREQ=YEARLY;INTERVAL=1;BYDAY=-1SU;BYMONTH=10
END:STANDARD
END:VTIMEZONE
BEGIN:VEVENT
UID:8608df64aefc83438b39f75036ada7de@gruene-os.de
URL;VALUE=URI:https://gruene-os.de/blog/termine/osnabrueck-wie-gehts-2/
LOCATION:Haster Weg/Ecke Mönkedieckstraße, Osnabrück
SUMMARY:Osnabrück, wie geht’s?
DESCRIPTION;ALTREP="data:text/html,%0A%3Cp%3E%3Cstrong%3EGR%C3%9CNE%20im%
 20Dialog%20vor%20Ort%3C%2Fstrong%3E%3C%2Fp%3E%0A%0A%0A%0A%3Cp%3EUnter%20d
 em%20Motto%20%E2%80%9EOsnabr%C3%BCck%2C%20wie%20geht%E2%80%99s%3F%E2%80%9
 C%20sind%20die%20GR%C3%9CNEN%20jeden%20zweiten%20Samstag%20zwischen%2011-
 12%20Uhr%20an%20einem%20Ort%20in%20der%20Stadt%20unterwegs.%20Am%209.%20N
 ovember%20sind%20sie%20um%2011%20Uhr%20am%20Haster%20Weg%2FEcke%20M%C3%B6
 nkedieckstra%C3%9Fe%20in%20der%20Dodesheide.%3C%2Fp%3E%0A%0A%0A%0A%3Cp%3E
 %E2%80%9EWir%20wollen%20ins%20Gespr%C3%A4ch%20kommen%20und%20Fragen%20run
 d%20um%20die%20Osnabr%C3%BCcker%20Stadtpolitik%20diskutieren%2C%20informi
 eren%20und%20Anliegen%20mitnehmen.%20Dazu%20laden%20wir%20alle%20Interess
 ierten%20ein%2C%20sprecht%20uns%20an%21%E2%80%9C%2C%20erkl%C3%A4ren%20die
 %20Initiator%2Ainnen%20Luca%20Wirkus%2C%20Max%20Strautmann%20und%20Jurek%
 20Milde.%3C%2Fp%3E%0A%0A%0A%0A%3Cp%3E%3C%2Fp%3E%0A":GRÜNE im Dialog vor 
 Ort\n\nUnter dem Motto „Osnabrück\, wie geht’s?“ sind die GRÜNEN 
 jeden zweiten Samstag zwischen 11-12 Uhr an einem Ort in der Stadt unterw
 egs. Am 9. November sind sie um 11 Uhr am Haster Weg/Ecke Mönkedieckstra
 ße in der Dodesheide.\n\n„Wir wollen ins Gespräch kommen und Fragen r
 und um die Osnabrücker Stadtpolitik diskutieren\, informieren und Anlieg
 en mitnehmen. Dazu laden wir alle Interessierten ein\, sprecht uns an!“
 \, erklären die Initiator*innen Luca Wirkus\, Max Strautmann und Jurek M
 ilde.
CLASS:PUBLIC
DTSTART;TZID=Europe/Berlin:20241109T110000
DTEND;TZID=Europe/Berlin:20241109T120000
DTSTAMP:20260424T195053
END:VEVENT
END:VCALENDAR