BEGIN:VCALENDAR
VERSION:2.0
PRODID:gruene-os.de
METHOD:PUBLISH
BEGIN:VTIMEZONE
TZID:Europe/Berlin
X-LIC-LOCATION:Europe/Berlin
BEGIN:DAYLIGHT
TZOFFSETFROM:+0100
TZOFFSETTO:+0200
TZNAME:CEST
DTSTART:19700329T020000
RRULE:FREQ=YEARLY;INTERVAL=1;BYDAY=-1SU;BYMONTH=3
END:DAYLIGHT
BEGIN:STANDARD
TZOFFSETFROM:+0200
TZOFFSETTO:+0100
TZNAME:CET
DTSTART:19701025T030000
RRULE:FREQ=YEARLY;INTERVAL=1;BYDAY=-1SU;BYMONTH=10
END:STANDARD
END:VTIMEZONE
BEGIN:VEVENT
UID:c89b926f1e6ecdf38cf3af6c4c58257d@gruene-os.de
URL;VALUE=URI:https://gruene-os.de/blog/termine/osnabrueck-gruener-machen
 -beschluss-des-kommunalwahlprogramms-2026/
LOCATION:Lagerhalle | Spitzboden
SUMMARY:Osnabrück grüner machen! Beschluss des Kommunalwahlprogramms 20
 26
DESCRIPTION;ALTREP="data:text/html,%0A%3Ch2%20class%3D%22wp-block-heading
 %22%3EMitgliederversammlung%3C%2Fh2%3E%0A%0A%0A%0A%3Cp%3EDie%20Debatten%2
 0%C3%BCber%20mehr%20Radsicherheit%20an%20der%20Iburger%20Stra%C3%9Fe%2C%2
 0%C3%BCber%20den%20Baumschutz%20oder%20M%C3%BCllvermeidung%20in%20der%20S
 tadt%20zeigen%3A%20w%C3%A4hrend%20die%20CDU%20immer%20wieder%20an%20Ideen
 %20von%20Gestern%20festklebt%20und%20bei%20mutigen%20Ver%C3%A4nderungen%2
 0auf%20der%20Bremse%20steht%2C%20gehen%20wir%20voran.%20%3C%2Fp%3E%0A%0A%
 0A%0A%3Cp%3EBereits%20seit%20mehreren%20Jahren%20mit%20einer%20Mehrheit%2
 0im%20Rat.%20Wir%20haben%20die%20Gr%C3%BCnen%20Finger%20gesch%C3%BCtzt%2C
 %20mehr%20sichere%20Radwege%20gebaut%2C%20den%20Neumarkt%20befriedet%2C%2
 0f%C3%BCr%20mehr%20Verl%C3%A4sslichkeit%20und%20Qualit%C3%A4t%20in%20den%
 20Kitas%20gesorgt%2C%20Kultur%20und%20Nachbarschaften%20gest%C3%A4rkt%20u
 nd%20mehr%20bezahlbaren%20Wohnraum%20geschaffen.%20Und%20noch%20viel%20me
 hr%20wurde%20angesto%C3%9Fen.%20Wir%20zeigen%2C%20dass%20gr%C3%BCne%20Pol
 itik%20vor%20Ort%20wirkt%20und%20wir%20den%20Unterschied%20machen.%3C%2Fp
 %3E%0A%0A%0A%0A%3Cp%3EDoch%20wir%20wissen%20auch%3A%20die%20Herausforderu
 ngen%20sind%20noch%20lange%20nicht%20gel%C3%B6st.%20Deshalb%20wollen%20wi
 r%20genau%20dort%20weitermachen%2C%20wo%20wir%20in%20dieser%20Ratsperiode
 %20schon%20vorgelegt%20haben.%20Unser%20Ziel%20f%C3%BCr%20die%20n%C3%A4ch
 sten%20Jahre%20ist%20klar%3A%20eine%20gr%C3%BCne%2C%20soziale%20und%20zuk
 unftsf%C3%A4hige%20Stadt.%20Das%20bedeutet%20konkret%3A%20sichere%20und%2
 0bezahlbare%20Mobilit%C3%A4t%20f%C3%BCr%20alle%20%E2%80%93%20ob%20zu%20Fu
 %C3%9F%2C%20mit%20dem%20Rad%20oder%20dem%20Bus.%20Mehr%20bezahlbarer%20Wo
 hnraum%20und%20lebenswerte%20Quartiere.%20Konsequenter%20Klimaschutz%2C%2
 0der%20Osnabr%C3%BCck%20gr%C3%BCner%2C%20k%C3%BChler%20und%20ges%C3%BCnde
 r%20macht.%20Und%20eine%20starke%2C%20nachhaltige%20Wirtschaft.%3C%2Fp%3E
 %0A%0A%0A%0A%3Cp%3EIm%20anstehenden%20Wahlkampf%20bauen%20wir%20auf%20dem
 %20Erreichten%20auf%20und%20richten%20den%20Blick%20nach%20vorn.%20Daher%
 20laden%20wir%20euch%20herzlich%20zur%20n%C3%A4chsten%20Mitgliederversamm
 lung%20ein%2C%20auf%20der%20wir%20unser%20Kommunalwahlprogramm%20f%C3%BCr
 %20die%20Wahl%20am%2013.%20September%20beschlie%C3%9Fen%20wollen.%3C%2Fp%
 3E%0A%0A%0A%0A%3Cp%3EIn%20den%20letzten%20Wochen%20und%20Monaten%20haben%
 20viele%20von%20Euch%20auf%20ganz%20unterschiedliche%20Art%20und%20Weise%
 20an%20dem%20Programmentwurf%20mitgewirkt.%20Die%20Projektgruppen%20und%2
 0Ratsmitglieder%20haben%20viele%20Impulse%20geliefert.%20Und%20nicht%20zu
 letzt%20haben%20auch%20viele%20Osnabr%C3%BCcker%2Ainnen%20%C3%BCber%20die
 %20Zuh%C3%B6raktionen%20an%20den%20Haust%C3%BCren%2C%20auf%20den%20Wochen
 m%C3%A4rkten%20und%20in%20der%20Innenstadt%20mit%20ihren%20Ideen%20und%20
 W%C3%BCnschen%20dazu%20beigetragen.%20Das%20ist%20gro%C3%9Fartig%21%20F%C
 3%BCr%20Euer%20Engagement%20in%20den%20letzten%20Monaten%20danken%20wir%2
 0Euch%20sehr.%3C%2Fp%3E%0A%0A%0A%0A%3Cp%3E%3Cem%3EAlle%20Neumitglieder%20
 und%20Interessierten%20sind%20wieder%20herzlich%20eingeladen%2C%20am%20Ab
 end%3Cbr%3Eder%20Mitgliederversammlung%20schon%20um%2018%3A45%20Uhr%20in%
 20der%20Lagerhalle%20zu%20sein.%20Wir%20sprechen%20dann%20%C3%BCber%20den
 %20Ablauf%20der%20Versammlung%20und%20kl%C3%A4ren%20m%C3%B6gliche%20Frage
 n.%3C%2Fem%3E%3C%2Fp%3E%0A%0A%0A%0A%3Col%20class%3D%22wp-block-list%22%3E
 %3C%2Fol%3E%0A":Mitgliederversammlung\n\nDie Debatten über mehr Radsiche
 rheit an der Iburger Straße\, über den Baumschutz oder Müllvermeidung 
 in der Stadt zeigen: während die CDU immer wieder an Ideen von Gestern f
 estklebt und bei mutigen Veränderungen auf der Bremse steht\, gehen wir 
 voran.\n\nBereits seit mehreren Jahren mit einer Mehrheit im Rat. Wir hab
 en die Grünen Finger geschützt\, mehr sichere Radwege gebaut\, den Neum
 arkt befriedet\, für mehr Verlässlichkeit und Qualität in den Kitas ge
 sorgt\, Kultur und Nachbarschaften gestärkt und mehr bezahlbaren Wohnrau
 m geschaffen. Und noch viel mehr wurde angestoßen. Wir zeigen\, dass gr
 üne Politik vor Ort wirkt und wir den Unterschied machen.\n\nDoch wir wi
 ssen auch: die Herausforderungen sind noch lange nicht gelöst. Deshalb w
 ollen wir genau dort weitermachen\, wo wir in dieser Ratsperiode schon vo
 rgelegt haben. Unser Ziel für die nächsten Jahre ist klar: eine grüne\
 , soziale und zukunftsfähige Stadt. Das bedeutet konkret: sichere und be
 zahlbare Mobilität für alle – ob zu Fuß\, mit dem Rad oder dem Bus. 
 Mehr bezahlbarer Wohnraum und lebenswerte Quartiere. Konsequenter Klimasc
 hutz\, der Osnabrück grüner\, kühler und gesünder macht. Und eine sta
 rke\, nachhaltige Wirtschaft.\n\nIm anstehenden Wahlkampf bauen wir auf d
 em Erreichten auf und richten den Blick nach vorn. Daher laden wir euch h
 erzlich zur nächsten Mitgliederversammlung ein\, auf der wir unser Kommu
 nalwahlprogramm für die Wahl am 13. September beschließen wollen.\n\nIn
  den letzten Wochen und Monaten haben viele von Euch auf ganz unterschied
 liche Art und Weise an dem Programmentwurf mitgewirkt. Die Projektgruppen
  und Ratsmitglieder haben viele Impulse geliefert. Und nicht zuletzt habe
 n auch viele Osnabrücker*innen über die Zuhöraktionen an den Haustüre
 n\, auf den Wochenmärkten und in der Innenstadt mit ihren Ideen und Wün
 schen dazu beigetragen. Das ist großartig! Für Euer Engagement in den l
 etzten Monaten danken wir Euch sehr.\n\nAlle Neumitglieder und Interessie
 rten sind wieder herzlich eingeladen\, am Abendder Mitgliederversammlung 
 schon um 18:45 Uhr in der Lagerhalle zu sein. Wir sprechen dann über den
  Ablauf der Versammlung und klären mögliche Fragen.
CLASS:PUBLIC
DTSTART;TZID=Europe/Berlin:20260430T190000
DTEND;TZID=Europe/Berlin:20260430T200000
DTSTAMP:20260421T135519
END:VEVENT
END:VCALENDAR