BEGIN:VCALENDAR
VERSION:2.0
PRODID:gruene-os.de
METHOD:PUBLISH
BEGIN:VTIMEZONE
TZID:Europe/Berlin
X-LIC-LOCATION:Europe/Berlin
BEGIN:DAYLIGHT
TZOFFSETFROM:+0100
TZOFFSETTO:+0200
TZNAME:CEST
DTSTART:19700329T020000
RRULE:FREQ=YEARLY;INTERVAL=1;BYDAY=-1SU;BYMONTH=3
END:DAYLIGHT
BEGIN:STANDARD
TZOFFSETFROM:+0200
TZOFFSETTO:+0100
TZNAME:CET
DTSTART:19701025T030000
RRULE:FREQ=YEARLY;INTERVAL=1;BYDAY=-1SU;BYMONTH=10
END:STANDARD
END:VTIMEZONE
BEGIN:VEVENT
UID:98c2bdf473c4df3ac441b8e176d92807@gruene-os.de
URL;VALUE=URI:https://gruene-os.de/blog/termine/neumitglieder-interessier
 tentreffen-mit-anschliessendem-gang-ueber-den-weihnachtsmarkt/
LOCATION:Lagerhalle
SUMMARY:Neumitglieder- & Interessiertentreffen mit anschließendem Gang 
 über den Weihnachtsmarkt
DESCRIPTION;ALTREP="data:text/html,%0A%3Cp%3EDu%20bist%20neues%20Mitglied
 %20oder%20m%C3%B6chtest%20es%20werden%3F%20Du%20fragst%20dich%2C%20was%20
 wir%20GR%C3%9CNEN%20in%20Osnabr%C3%BCck%20eigentlich%20machen%20und%20wie
 %20Du%20aktiv%20werden%20kannst%3F%20Dann%20schau%20doch%20am%20Mittwoch%
 2C%203.%20Dezember%2C%20um%2019%3A00%20Uhr%20in%20der%20Lagerhalle%20%28R
 aum%20204%29%20vorbei.%20An%20dem%20Infoabend%20wollen%20wir%20nicht%20nu
 r%20neue%20Mitglieder%20%E2%80%9Eonboarden%E2%80%9C%2C%20sondern%20auch%2
 0dar%C3%BCber%20sprechen%2C%20wie%20man%20als%20%28noch%29%20Nichtmitglie
 d%20mitmachen%20kann.%3C%2Fp%3E%0A%0A%0A%0A%3Cp%3EAnschlie%C3%9Fen%20woll
 en%20wir%20gemeinsam%20%C3%BCber%20den%20Weihnachtsmarkt%20gehen.%3C%2Fp%
 3E%0A%0A%0A%0A%3Cp%3EBei%20Fragen%20melde%20Dich%20gerne%20bei%20Sonja%20
 %28%3Ca%20href%3D%22https%3A%2F%2Fgruene-os.de%2Fblog%2Ftermine%2Fneumitg
 lieder-interessiertentreffen-2%2F%23%22%3Etanger%40gruene-os.de%3C%2Fa%3E
 %29.%3C%2Fp%3E%0A":Du bist neues Mitglied oder möchtest es werden? Du fr
 agst dich\, was wir GRÜNEN in Osnabrück eigentlich machen und wie Du ak
 tiv werden kannst? Dann schau doch am Mittwoch\, 3. Dezember\, um 19:00 U
 hr in der Lagerhalle (Raum 204) vorbei. An dem Infoabend wollen wir nicht
  nur neue Mitglieder „onboarden“\, sondern auch darüber sprechen\, w
 ie man als (noch) Nichtmitglied mitmachen kann.\n\nAnschließen wollen wi
 r gemeinsam über den Weihnachtsmarkt gehen.\n\nBei Fragen melde Dich ger
 ne bei Sonja (tanger@gruene-os.de).
CLASS:PUBLIC
DTSTART;TZID=Europe/Berlin:20251203T190000
DTEND;TZID=Europe/Berlin:20251203T200000
DTSTAMP:20260424T195531
END:VEVENT
END:VCALENDAR