BEGIN:VCALENDAR
VERSION:2.0
PRODID:gruene-os.de
METHOD:PUBLISH
BEGIN:VTIMEZONE
TZID:Europe/Berlin
X-LIC-LOCATION:Europe/Berlin
BEGIN:DAYLIGHT
TZOFFSETFROM:+0100
TZOFFSETTO:+0200
TZNAME:CEST
DTSTART:19700329T020000
RRULE:FREQ=YEARLY;INTERVAL=1;BYDAY=-1SU;BYMONTH=3
END:DAYLIGHT
BEGIN:STANDARD
TZOFFSETFROM:+0200
TZOFFSETTO:+0100
TZNAME:CET
DTSTART:19701025T030000
RRULE:FREQ=YEARLY;INTERVAL=1;BYDAY=-1SU;BYMONTH=10
END:STANDARD
END:VTIMEZONE
BEGIN:VEVENT
UID:1f7d0771339f5875e8aca2667db3f725@gruene-os.de
URL;VALUE=URI:https://gruene-os.de/blog/termine/mitgliederversammlung-wah
 l-review/
LOCATION:Lagerhalle: Spitzboden, Rolandsmauer 26, Osnabrück
SUMMARY:Mitgliederversammlung: Wahl-Review
DESCRIPTION;ALTREP="data:text/html,%0A%3Cp%3EAuf%20der%20anstehenden%20Mi
 tgliederversammlung%20wollen%20wir%20mit%20euch%20auf%20die%20Bundestagsw
 ahl%20und%20den%20Wahlkampf%20zur%C3%BCckblicken.%20%3C%2Fp%3E%0A%0A%0A%0
 A%3Cp%3EWeitere%20Infos%20folgen%20in%20k%C3%BCrze.%20%3C%2Fp%3E%0A%0A%0A
 %0A%3Cp%3E%3C%2Fp%3E%0A":Auf der anstehenden Mitgliederversammlung wollen
  wir mit euch auf die Bundestagswahl und den Wahlkampf zurückblicken.\n\
 nWeitere Infos folgen in kürze.
CLASS:PUBLIC
DTSTART;TZID=Europe/Berlin:20250305T190500
DTEND;TZID=Europe/Berlin:20250305T210000
DTSTAMP:20260424T194926
END:VEVENT
END:VCALENDAR