BEGIN:VCALENDAR
VERSION:2.0
PRODID:gruene-os.de
METHOD:PUBLISH
BEGIN:VTIMEZONE
TZID:Europe/Berlin
X-LIC-LOCATION:Europe/Berlin
BEGIN:DAYLIGHT
TZOFFSETFROM:+0100
TZOFFSETTO:+0200
TZNAME:CEST
DTSTART:19700329T020000
RRULE:FREQ=YEARLY;INTERVAL=1;BYDAY=-1SU;BYMONTH=3
END:DAYLIGHT
BEGIN:STANDARD
TZOFFSETFROM:+0200
TZOFFSETTO:+0100
TZNAME:CET
DTSTART:19701025T030000
RRULE:FREQ=YEARLY;INTERVAL=1;BYDAY=-1SU;BYMONTH=10
END:STANDARD
END:VTIMEZONE
BEGIN:VEVENT
UID:d6560332b3ce266901ca6690cf17d109@gruene-os.de
URL;VALUE=URI:https://gruene-os.de/blog/termine/mitgliederversammlung-sta
 rt-der-zuhoerkampagne/
LOCATION:Lagerhalle
SUMMARY:Mitgliederversammlung & Start der Zuhörkampagne
DESCRIPTION;ALTREP="data:text/html,%0A%3Cp%3EGemeinsam%20starten%20wir%20
 dort%20offiziell%20in%20unsere%20Zuh%C3%B6rkampagne%20zur%20Kommunalwahl%
 202026.%3C%2Fp%3E%0A%0A%0A%0A%3Cp%3EIn%20den%20kommenden%20Wochen%20wolle
 n%20wir%20in%20Osnabr%C3%BCck%20pr%C3%A4sent%20sein%2C%20zuh%C3%B6ren%20u
 nd%20aufnehmen%2C%20was%20die%20Menschen%20bewegt%20%E2%80%93%20an%20Haus
 t%C3%BCren%2C%20auf%20Pl%C3%A4tzen%20und%20in%20den%20Stadtteilen.%20Die%
 20Gespr%C3%A4che%20flie%C3%9Fen%20in%20unser%20Kommunalwahlprogramm%20und
 %20unsere%20Arbeit%20im%20Stadtrat%20ein.%3C%2Fp%3E%0A%0A%0A%0A%3Cp%3ENeb
 en%20dem%20Auftakt%20zur%20Zuh%C3%B6rkampagne%20stehen%20auch%20die%26nbs
 p%3B%3Cstrong%3EWahlen%20der%20%28Ersatz-%29Delegierten%20zur%20Landesdel
 egiertenkonferenz%20%28LDK%29%3C%2Fstrong%3E%2C%20der%20Bericht%20der%20K
 assenpr%C3%BCfer%2Ainnen%20sowie%20die%26nbsp%3B%3Cstrong%3EEntlastung%20
 des%20Vorstands%3C%2Fstrong%3E%26nbsp%3Bauf%20der%20Tagesordnung.%3C%2Fp%
 3E%0A%0A%0A%0A%3Cp%3EAlle%20Neumitglieder%20und%20Interessierten%20sind%2
 0herzlich%20eingeladen%2C%20bereits%20um%C2%A0%3Cstrong%3E18%3A45%20Uhr%3
 C%2Fstrong%3E%C2%A0vor%20Beginn%20der%20Versammlung%20dazuzukommen%2C%20u
 m%20den%20Ablauf%20kennenzulernen%20und%20Fragen%20zu%20kl%C3%A4ren.%20Ih
 r%20findet%20die%20Einladung%20auch%20nochmal%20anbei.%C2%A0%3Cbr%3E%3C%2
 Fp%3E%0A":Gemeinsam starten wir dort offiziell in unsere Zuhörkampagne z
 ur Kommunalwahl 2026.\n\nIn den kommenden Wochen wollen wir in Osnabrück
  präsent sein\, zuhören und aufnehmen\, was die Menschen bewegt – an 
 Haustüren\, auf Plätzen und in den Stadtteilen. Die Gespräche fließen
  in unser Kommunalwahlprogramm und unsere Arbeit im Stadtrat ein.\n\nNebe
 n dem Auftakt zur Zuhörkampagne stehen auch die Wahlen der (Ersatz-)Del
 egierten zur Landesdelegiertenkonferenz (LDK)\, der Bericht der Kassenpr
 üfer*innen sowie die Entlastung des Vorstands auf der Tagesordnung.\n\
 nAlle Neumitglieder und Interessierten sind herzlich eingeladen\, bereits
  um 18:45 Uhr vor Beginn der Versammlung dazuzukommen\, um den Ablauf k
 ennenzulernen und Fragen zu klären. Ihr findet die Einladung auch nochma
 l anbei. 
CLASS:PUBLIC
DTSTART;TZID=Europe/Berlin:20260128T190000
DTEND;TZID=Europe/Berlin:20260128T200000
DTSTAMP:20260424T194957
END:VEVENT
END:VCALENDAR