BEGIN:VCALENDAR
VERSION:2.0
PRODID:gruene-os.de
METHOD:PUBLISH
BEGIN:VTIMEZONE
TZID:Europe/Berlin
X-LIC-LOCATION:Europe/Berlin
BEGIN:DAYLIGHT
TZOFFSETFROM:+0100
TZOFFSETTO:+0200
TZNAME:CEST
DTSTART:19700329T020000
RRULE:FREQ=YEARLY;INTERVAL=1;BYDAY=-1SU;BYMONTH=3
END:DAYLIGHT
BEGIN:STANDARD
TZOFFSETFROM:+0200
TZOFFSETTO:+0100
TZNAME:CET
DTSTART:19701025T030000
RRULE:FREQ=YEARLY;INTERVAL=1;BYDAY=-1SU;BYMONTH=10
END:STANDARD
END:VTIMEZONE
BEGIN:VEVENT
UID:b00eb94d6d4390aa1d37401ff7ba12c1@gruene-os.de
URL;VALUE=URI:https://gruene-os.de/blog/termine/lesung-mit-juergen-tritti
 n-alles-muss-anders-bleiben/
LOCATION:Lagerhalle e.V., Rolandsmauer 26, 49074 Osnabrück
SUMMARY:Lesung mit Jürgen Trittin: Alles muss anders bleiben
DESCRIPTION;ALTREP="data:text/html,%0A%3Cp%3EDer%20Gr%C3%BCnen-Politiker%
 20stellt%20in%20der%20Lagerhalle%20am%20Mittwoch%2C%2015%20Januar%2C%20um
 %2019%3A30%20Uhr%20sein%20Buch%20%22Alles%20muss%20anders%20bleiben%22%20
 in%20der%20Lagerhalle%20vor.%20Er%20erz%C3%A4hlt%20dabei%20von%20der%20An
 fangszeit%20der%20Gr%C3%BCnen%2C%20seinen%20Ministerjahren%20in%20Nieders
 achsen%20und%20der%20ersten%20rot-gr%C3%BCnen%20Bundesregierung%20unter%2
 0Gerhard%20Schr%C3%B6der%2C%20von%20den%20langen%20Jahren%20in%20der%20Op
 position%20und%20schlie%C3%9Flich%20der%20lager%C3%BCbergreifenden%20Koal
 ition%20mit%20SPD%20und%20FDP%20seit%202021.%3C%2Fp%3E%0A%0A%0A%0A%3Cp%3E
 Weitere%20Infos%20gibt%20es%20auf%20der%3Ca%20href%3D%22https%3A%2F%2Fwww
 .lagerhalle-osnabrueck.de%2Fcontent%2Fveranstaltungen%2Fjuergen-trittin-a
 lles-muss-anders-bleiben%2F%22%20data-type%3D%22link%22%20data-id%3D%22ht
 tps%3A%2F%2Fwww.lagerhalle-osnabrueck.de%2Fcontent%2Fveranstaltungen%2Fju
 ergen-trittin-alles-muss-anders-bleiben%2F%22%3E%20Webseite%20der%20Lager
 halle%3C%2Fa%3E.%3C%2Fp%3E%0A%0A%0A%0A%3Cp%3E%3C%2Fp%3E%0A":Der Grünen-P
 olitiker stellt in der Lagerhalle am Mittwoch\, 15 Januar\, um 19:30 Uhr 
 sein Buch "Alles muss anders bleiben" in der Lagerhalle vor. Er erzählt 
 dabei von der Anfangszeit der Grünen\, seinen Ministerjahren in Niedersa
 chsen und der ersten rot-grünen Bundesregierung unter Gerhard Schröder\
 , von den langen Jahren in der Opposition und schließlich der lagerüber
 greifenden Koalition mit SPD und FDP seit 2021.\n\nWeitere Infos gibt es 
 auf der Webseite der Lagerhalle.
CLASS:PUBLIC
DTSTART;TZID=Europe/Berlin:20250115T193000
DTEND;TZID=Europe/Berlin:20250115T203000
DTSTAMP:20260424T195136
END:VEVENT
END:VCALENDAR