BEGIN:VCALENDAR
VERSION:2.0
PRODID:gruene-os.de
METHOD:PUBLISH
BEGIN:VTIMEZONE
TZID:Europe/Berlin
X-LIC-LOCATION:Europe/Berlin
BEGIN:DAYLIGHT
TZOFFSETFROM:+0100
TZOFFSETTO:+0200
TZNAME:CEST
DTSTART:19700329T020000
RRULE:FREQ=YEARLY;INTERVAL=1;BYDAY=-1SU;BYMONTH=3
END:DAYLIGHT
BEGIN:STANDARD
TZOFFSETFROM:+0200
TZOFFSETTO:+0100
TZNAME:CET
DTSTART:19701025T030000
RRULE:FREQ=YEARLY;INTERVAL=1;BYDAY=-1SU;BYMONTH=10
END:STANDARD
END:VTIMEZONE
BEGIN:VEVENT
UID:7f7e92886c3ed6875c67b170d727514d@gruene-os.de
URL;VALUE=URI:https://gruene-os.de/blog/termine/kulturpolitischer-ausstel
 lungsbesuch-in-der-kunsthalle/
LOCATION:Kunsthalle Osnabrück
SUMMARY:Kulturpolitischer Ausstellungsbesuch in der Kunsthalle
DESCRIPTION;ALTREP="data:text/html,%0A%3Cp%3EDer%20Ausstellungsbesuch%20d
 auert%20ca.%20eine%20Stunde.%20Im%20Anschluss%20freuen%20wir%20uns%20%C3%
 BCber%20die%20Gelegenheit%2C%20unser%20Gespr%C3%A4ch%20im%20Besucherraum%
 20gemeinsam%20fortsetzen%20zu%20k%C3%B6nnen.%20Geplantes%20Ende%20ca.%202
 1%20Uhr%3C%2Fp%3E%0A%0A%0A%0A%3Cp%3E%3Cstrong%3EGEISTER%20II%3Cbr%3E%3C%2
 Fstrong%3EIm%20zweiten%20Teil%20des%20Programms%20%E2%80%9EGeister%22%20b
 esch%C3%A4ftigen%20sich%20die%20Ausstellungen%20ab%20dem%2029.%20November
 %202025%20mit%20dem%20Geist%20als%20Ausdruck%20von%20pers%C3%B6nlichen%20
 Haltungen%20und%20%C3%9Cberzeugungen.%20Auf%20verschiedene%20Weise%20verh
 andeln%20die%20K%C3%BCnstler%3Ainnen%26nbsp%3BFragen%20von%20Zivilcourage
 %2C%20Meinungsfreiheit%20und%20dem%20Protest%20als%20gesellschaftspolitis
 che%20Verantwortung.%20Welche%20ideologischen%20Geister%2C%20bei%20denen%
 20wir%20dachten%2C%20dass%20sie%20in%20der%20Vergangenheit%20ruhen%2C%20b
 edrohen%20immer%20mehr%20unsere%20demokratische%2C%20diverse%20und%20offe
 ne%20Gesellschaft%3F%20K%C3%BCnstlerisch%20reicht%20das%20Spektrum%20von%
 20alten%20Handwerkstechniken%20bis%20zum%20neuen%20Medium%20der%20K%C3%BC
 nstlichen%20Intelligenz%2C%20die%20unsichtbar%20umhergeistert.%3C%2Fp%3E%
 0A%0A%0A%0A%3Cp%3ETeilnehmende%20zahlen%20Eintritt%20selbst%20%28Mitglied
 er%20des%20Freundkreises%20der%20Kunsthalle%20haben%20freien%20Eintritt%2
 9%3C%2Fp%3E%0A%0A%0A%0A%3Cp%3EAnmeldungen%20unter%20partei%40gruene-os.de
 %3C%2Fp%3E%0A":Der Ausstellungsbesuch dauert ca. eine Stunde. Im Anschlus
 s freuen wir uns über die Gelegenheit\, unser Gespräch im Besucherraum 
 gemeinsam fortsetzen zu können. Geplantes Ende ca. 21 Uhr\n\nGEISTER III
 m zweiten Teil des Programms „Geister" beschäftigen sich die Ausstellu
 ngen ab dem 29. November 2025 mit dem Geist als Ausdruck von persönliche
 n Haltungen und Überzeugungen. Auf verschiedene Weise verhandeln die Kü
 nstler:innen Fragen von Zivilcourage\, Meinungsfreiheit und dem Protest 
 als gesellschaftspolitische Verantwortung. Welche ideologischen Geister\,
  bei denen wir dachten\, dass sie in der Vergangenheit ruhen\, bedrohen i
 mmer mehr unsere demokratische\, diverse und offene Gesellschaft? Künstl
 erisch reicht das Spektrum von alten Handwerkstechniken bis zum neuen Med
 ium der Künstlichen Intelligenz\, die unsichtbar umhergeistert.\n\nTeiln
 ehmende zahlen Eintritt selbst (Mitglieder des Freundkreises der Kunsthal
 le haben freien Eintritt)\n\nAnmeldungen unter partei@gruene-os.de
CLASS:PUBLIC
DTSTART;TZID=Europe/Berlin:20260130T183000
DTEND;TZID=Europe/Berlin:20260130T193000
DTSTAMP:20260424T195536
END:VEVENT
END:VCALENDAR