BEGIN:VCALENDAR
VERSION:2.0
PRODID:gruene-os.de
METHOD:PUBLISH
BEGIN:VTIMEZONE
TZID:Europe/Berlin
X-LIC-LOCATION:Europe/Berlin
BEGIN:DAYLIGHT
TZOFFSETFROM:+0100
TZOFFSETTO:+0200
TZNAME:CEST
DTSTART:19700329T020000
RRULE:FREQ=YEARLY;INTERVAL=1;BYDAY=-1SU;BYMONTH=3
END:DAYLIGHT
BEGIN:STANDARD
TZOFFSETFROM:+0200
TZOFFSETTO:+0100
TZNAME:CET
DTSTART:19701025T030000
RRULE:FREQ=YEARLY;INTERVAL=1;BYDAY=-1SU;BYMONTH=10
END:STANDARD
END:VTIMEZONE
BEGIN:VEVENT
UID:b2b2b91ca6e6de96427015a615016937@gruene-os.de
URL;VALUE=URI:https://gruene-os.de/blog/termine/kongress-klimawandel-stae
 dte/
LOCATION:DBU Zentrum für Umweltkommunikation, An der Bornau 2, Osnabrüc
 k
SUMMARY:Kongress “Klimawandel & Städte” 
DESCRIPTION;ALTREP="data:text/html,%0A%3Cp%3EDer%20Kongress%20%22Klimawan
 del%20%26amp%3B%20St%C3%A4dte%22%20ist%20eine%20Gemeinschaftsveranstaltun
 g%20des%20Vereins%20Klima-Frieden%20Osnabr%C3%BCck%20und%20Osnabr%C3%BCck
 er%20Land%20mit%20dem%20Wissenschaftszentrum%20Berlin%2C%20den%20Hochschu
 len%20Hannover%20und%20Osnabr%C3%BCck%20sowie%20dem%20Bremer%20Umweltinst
 itut.%20Eine%20Anmeldung%20ist%20erforderlich.%20Die%20Veranstaltung%20is
 t%20kostenfrei.%3C%2Fp%3E%0A%0A%0A%0A%3Cp%3EWeitere%20Infos%20und%20Anmel
 dung%20unter%26nbsp%3B%3Ca%20href%3D%22https%3A%2F%2Fwww.klimafrieden-os.
 de%2Fblog-posts%2Fkongress-klimawandel-staedte%22%3Ehttps%3A%2F%2Fwww.kli
 mafrieden-os.de%2Fblog-posts%2Fkongress-klimawandel-staedte%3C%2Fa%3E%26n
 bsp%3B%3C%2Fp%3E%0A":Der Kongress "Klimawandel & Städte" ist eine Gemein
 schaftsveranstaltung des Vereins Klima-Frieden Osnabrück und Osnabrücke
 r Land mit dem Wissenschaftszentrum Berlin\, den Hochschulen Hannover und
  Osnabrück sowie dem Bremer Umweltinstitut. Eine Anmeldung ist erforderl
 ich. Die Veranstaltung ist kostenfrei.\n\nWeitere Infos und Anmeldung unt
 er https://www.klimafrieden-os.de/blog-posts/kongress-klimawandel-staedt
 e 
CLASS:PUBLIC
DTSTART;TZID=Europe/Berlin:20250902T093000
DTEND;TZID=Europe/Berlin:20250902T103000
DTSTAMP:20260424T194927
END:VEVENT
END:VCALENDAR