BEGIN:VCALENDAR
VERSION:2.0
PRODID:gruene-os.de
METHOD:PUBLISH
BEGIN:VTIMEZONE
TZID:Europe/Berlin
X-LIC-LOCATION:Europe/Berlin
BEGIN:DAYLIGHT
TZOFFSETFROM:+0100
TZOFFSETTO:+0200
TZNAME:CEST
DTSTART:19700329T020000
RRULE:FREQ=YEARLY;INTERVAL=1;BYDAY=-1SU;BYMONTH=3
END:DAYLIGHT
BEGIN:STANDARD
TZOFFSETFROM:+0200
TZOFFSETTO:+0100
TZNAME:CET
DTSTART:19701025T030000
RRULE:FREQ=YEARLY;INTERVAL=1;BYDAY=-1SU;BYMONTH=10
END:STANDARD
END:VTIMEZONE
BEGIN:VEVENT
UID:6faa54737e57701fcfb2d652807e5158@gruene-os.de
URL;VALUE=URI:https://gruene-os.de/blog/termine/kein-bock-auf-rechtsruck-
 info-abend-zur-mitgliedschaft/
LOCATION:Ort auf Anfrage, Osnabrück
SUMMARY:Kein Bock auf Rechtsruck? Info-Abend zur Mitgliedschaft!
DESCRIPTION;ALTREP="data:text/html,%0A%3Cp%3EDas%20beste%20Mittel%20gegen
 %20Rechts%3F%20Demokrat%2Ainnen%21%20%F0%9F%92%AA%3C%2Fp%3E%0A%0A%0A%0A%3
 Cp%3EEine%20Gesellschaft%2C%20die%20in%20ihrer%20Vielfalt%20zusammenh%C3%
 A4lt%2C%20ist%20stark.%20St%C3%A4rker%20als%20Rechte%20je%20sein%20k%C3%B
 6nnen.%20Wir%20GR%C3%9CNE%20stehen%20f%C3%BCr%20diese%20offene%20Gesellsc
 haft%20ein%20-%20und%20daf%C3%BCr%20braucht%20es%20DICH%21%F0%9F%AB%B5%3C
 %2Fp%3E%0A%0A%0A%0A%3Cp%3EWerde%20jetzt%20Mitglied%2C%20zeige%20klare%20K
 ante%20gegen%20Rechts%20und%20setze%20dich%20mit%20uns%20f%C3%BCr%20die%2
 0Demokratie%20ein%21%F0%9F%8C%BB%3C%2Fp%3E%0A%0A%0A%0A%3Cp%3E%F0%9F%91%89
 Du%20bist%20interessiert%3F%20Dann%20werde%20%3Ca%20href%3D%22http%3A%2F%
 2Fwww.gruene.de%2Fmitglied-werden%22%20target%3D%22_blank%22%20rel%3D%22n
 oreferrer%20noopener%22%3EMitglied%3C%2Fa%3E%20und%2Foder%20schau%20bei%2
 0unserem%20Info-Abend%20am%20Mittwoch%2C%20den%2019.%20Juni%20um%2017%3A3
 0%20Uhr%20vorbei.%20Den%20Ort%20erf%C3%A4hrst%20du%20nach%20Anmeldung%3A%
 20%3Ca%20href%3D%22mailto%3Apartei%40gruene-os.de%22%3Epartei%40gruene-os
 .de%3C%2Fa%3E%3C%2Fp%3E%0A":Das beste Mittel gegen Rechts? Demokrat*innen
 ! 💪\n\nEine Gesellschaft\, die in ihrer Vielfalt zusammenhält\, ist s
 tark. Stärker als Rechte je sein können. Wir GRÜNE stehen für diese o
 ffene Gesellschaft ein - und dafür braucht es DICH!🫵\n\nWerde jetzt M
 itglied\, zeige klare Kante gegen Rechts und setze dich mit uns für die 
 Demokratie ein!🌻\n\n👉Du bist interessiert? Dann werde Mitglied und/
 oder schau bei unserem Info-Abend am Mittwoch\, den 19. Juni um 17:30 Uhr
  vorbei. Den Ort erfährst du nach Anmeldung: partei@gruene-os.de
CLASS:PUBLIC
DTSTART;TZID=Europe/Berlin:20240619T173000
DTEND;TZID=Europe/Berlin:20240619T190000
DTSTAMP:20260424T195339
END:VEVENT
END:VCALENDAR