BEGIN:VCALENDAR
VERSION:2.0
PRODID:gruene-os.de
METHOD:PUBLISH
BEGIN:VTIMEZONE
TZID:Europe/Berlin
X-LIC-LOCATION:Europe/Berlin
BEGIN:DAYLIGHT
TZOFFSETFROM:+0100
TZOFFSETTO:+0200
TZNAME:CEST
DTSTART:19700329T020000
RRULE:FREQ=YEARLY;INTERVAL=1;BYDAY=-1SU;BYMONTH=3
END:DAYLIGHT
BEGIN:STANDARD
TZOFFSETFROM:+0200
TZOFFSETTO:+0100
TZNAME:CET
DTSTART:19701025T030000
RRULE:FREQ=YEARLY;INTERVAL=1;BYDAY=-1SU;BYMONTH=10
END:STANDARD
END:VTIMEZONE
BEGIN:VEVENT
UID:a728ca20318d7a0bb36b2b9123615ad2@gruene-os.de
URL;VALUE=URI:https://gruene-os.de/blog/termine/handyverbot-leistungsdruc
 k-und-freiraeume-lets-talk-about-schule/
LOCATION:Lagerhalle (Spitzboden)
SUMMARY:Handyverbot, Leistungsdruck und Freiräume – Let’s talk about
  Schule!
DESCRIPTION;ALTREP="data:text/html,%0A%3Cp%3EWer%20sich%20noch%20an%20gr%
 C3%BCne%20Tafeln%20und%20Kreide%20erinnert%2C%20merkt%20schnell%3A%20Schu
 le%20sieht%20anders%20aus.%20Digitale%20Endger%C3%A4te%20und%20Inhalte%20
 sind%20l%C3%A4ngst%20Teil%20des%20Alltags%20%E2%80%93die%20Lehrkr%C3%A4ft
 e%20stehen%20vor%20der%20Frage%3A%20wie%20besser%20einbinden%20und%20wie%
 20besser%20regulieren%3F%3Cbr%3EDie%20Welt%20wird%20immer%20komplexer.%20
 Das%20Wissen%20w%C3%A4chst.%20Schule%20soll%20Kinder%20aber%20nicht%20nur
 %20schlau%20machen%2C%20sondern%20auch%20zu%20sozial%20kompetenten%20B%C3
 %BCrger%2Ainnen%20und%20engagierten%20Demokrat%2Ainnen%20machen.%3C%2Fp%3
 E%0A%0A%0A%0A%3Cp%3EDoch%20wie%20passt%20das%20in%20enge%20Lehrpl%C3%A4ne
 %20und%20die%20herausfordernde%20Vielfalt%20in%20den%20Schulklassen%3F%20
 Wie%20k%C3%B6nnen%20Schulen%20und%20Lehrkr%C3%A4fte%20diese%20Vielfalt%20
 als%20St%C3%A4rke%20nutzen%20und%20jedem%20Kind%20die%20besten%20Chancen%
 20geben%3F%3Cbr%3E%C3%9Cber%20diese%20und%20viele%20weitere%20Fragen%20wo
 llen%20wir%20ins%20Gespr%C3%A4ch%20kommen%21%3C%2Fp%3E%0A%0A%0A%0A%3Cp%3E
 Mit%20dabei%20sind%3A%3C%2Fp%3E%0A%0A%0A%0A%3Cp%3E%3Cstrong%3EPascal%20Me
 nnen%3C%2Fstrong%3E%2C%20MdL%2C%20Sprecher%20f%C3%BCr%20Schulpolitik%3Cbr
 %3E%3Cstrong%3ELena%20Nzume%3C%2Fstrong%3E%2C%20MdL%2C%20Sprecherin%20f%C
 3%BCr%20Bildungspolitik%3Cbr%3E%3Cstrong%3EAnne%20Kura%3C%2Fstrong%3E%2C%
 20Fraktionsvorsitzende%20im%20Landtag%20und%20Stadtratsmitglied%3C%2Fp%3E
 %0A%0A%0A%0A%3Cp%3Eam%20%3Cstrong%3EDienstag%2C%2024.%20September%2C%2018
 %20Uhr%20im%20Spitzboden%20der%20Lagerhalle%3C%2Fstrong%3E%2C%20Rolandsma
 uer%2026%2C%2049074%20Osnabr%C3%BCck%3C%2Fp%3E%0A%0A%0A%0A%3Cp%3EWir%20m%
 C3%B6chten%20vor%20allem%20eure%20Fragen%20und%20Perspektiven%20h%C3%B6re
 n%3A%20Was%20bewegt%20euch%20in%20Sachen%20Schule%3F%20Kommt%20vorbei%2C%
 20diskutiert%20mit%20uns%20%E2%80%93%20und%20bringt%20gerne%20Freundinnen
 %2C%20Kolleginnen%20oder%20Familie%20mit.%3C%2Fp%3E%0A":Wer sich noch an 
 grüne Tafeln und Kreide erinnert\, merkt schnell: Schule sieht anders au
 s. Digitale Endgeräte und Inhalte sind längst Teil des Alltags –die L
 ehrkräfte stehen vor der Frage: wie besser einbinden und wie besser regu
 lieren?Die Welt wird immer komplexer. Das Wissen wächst. Schule soll Kin
 der aber nicht nur schlau machen\, sondern auch zu sozial kompetenten Bü
 rger*innen und engagierten Demokrat*innen machen.\n\nDoch wie passt das i
 n enge Lehrpläne und die herausfordernde Vielfalt in den Schulklassen? W
 ie können Schulen und Lehrkräfte diese Vielfalt als Stärke nutzen und 
 jedem Kind die besten Chancen geben?Über diese und viele weitere Fragen 
 wollen wir ins Gespräch kommen!\n\nMit dabei sind:\n\nPascal Mennen\, Md
 L\, Sprecher für SchulpolitikLena Nzume\, MdL\, Sprecherin für Bildungs
 politikAnne Kura\, Fraktionsvorsitzende im Landtag und Stadtratsmitglied\
 n\nam Dienstag\, 24. September\, 18 Uhr im Spitzboden der Lagerhalle\, Ro
 landsmauer 26\, 49074 Osnabrück\n\nWir möchten vor allem eure Fragen un
 d Perspektiven hören: Was bewegt euch in Sachen Schule? Kommt vorbei\, d
 iskutiert mit uns – und bringt gerne Freundinnen\, Kolleginnen oder Fam
 ilie mit.
CLASS:PUBLIC
DTSTART;TZID=Europe/Berlin:20250924T180000
DTEND;TZID=Europe/Berlin:20250924T190000
DTSTAMP:20260424T195438
END:VEVENT
END:VCALENDAR