BEGIN:VCALENDAR
VERSION:2.0
PRODID:gruene-os.de
METHOD:PUBLISH
BEGIN:VTIMEZONE
TZID:Europe/Berlin
X-LIC-LOCATION:Europe/Berlin
BEGIN:DAYLIGHT
TZOFFSETFROM:+0100
TZOFFSETTO:+0200
TZNAME:CEST
DTSTART:19700329T020000
RRULE:FREQ=YEARLY;INTERVAL=1;BYDAY=-1SU;BYMONTH=3
END:DAYLIGHT
BEGIN:STANDARD
TZOFFSETFROM:+0200
TZOFFSETTO:+0100
TZNAME:CET
DTSTART:19701025T030000
RRULE:FREQ=YEARLY;INTERVAL=1;BYDAY=-1SU;BYMONTH=10
END:STANDARD
END:VTIMEZONE
BEGIN:VEVENT
UID:c8bdd712f0373d1798ea3c8e5804bcc1@gruene-os.de
URL;VALUE=URI:https://gruene-os.de/blog/termine/gemeinsamer-ausstellungsb
 esuch-rosenstrasse-76-haeusliche-gewalt-ueberwinden/
LOCATION:Treffpunkt: BBS am Pottgraben
SUMMARY:Gemeinsamer Ausstellungsbesuch „Rosenstraße 76“ – Häuslic
 he Gewalt überwinden
DESCRIPTION;ALTREP="data:text/html,%0A%3Cp%3EDie%20Ausstellung%20%3Cstron
 g%3E%E2%80%9ERosenstra%C3%9Fe%2076%E2%80%9C%3C%2Fstrong%3E%20macht%20h%C3
 %A4usliche%20Gewalt%20sichtbar%3A%20Was%20wie%20eine%20gew%C3%B6hnliche%2
 0Wohnung%20wirkt%2C%20erz%C3%A4hlt%20bei%20genauerem%20Hinsehen%20eine%20
 andere%20Geschichte.%20Die%20interaktive%20Dauerausstellung%20ber%C3%BChr
 t%2C%20r%C3%BCttelt%20auf%20%E2%80%93%20und%20zeigt%20konkrete%20Wege%20u
 nd%20Hilfsangebote%2C%20um%20Gewalt%20zu%20%C3%BCberwinden.%3C%2Fp%3E%0A%
 0A%0A%0A%3Cp%3ELasst%20uns%20gemeinsam%20hinschauen%2C%20zuh%C3%B6ren%20u
 nd%20Verantwortung%20%C3%BCbernehmen.%20%3C%2Fp%3E%0A%0A%0A%0A%3Cp%3EMehr
 %20Infos%3A%20%3Ca%20href%3D%22http%3A%2F%2Fwww.rosenstrasse76osnabrueck.
 de%22%3Ewww.rosenstrasse76osnabrueck.de%3C%2Fa%3E%3C%2Fp%3E%0A%0A%0A%0A%3
 Cp%3E%F0%9F%93%A7%20Anmeldung%3A%20%3Ca%3Epartei%40gruene-os.de%3C%2Fa%3E
 %3C%2Fp%3E%0A%0A%0A%0A%3Cp%3E%3C%2Fp%3E%0A":Die Ausstellung „Rosenstra
 ße 76“ macht häusliche Gewalt sichtbar: Was wie eine gewöhnliche Woh
 nung wirkt\, erzählt bei genauerem Hinsehen eine andere Geschichte. Die 
 interaktive Dauerausstellung berührt\, rüttelt auf – und zeigt konkre
 te Wege und Hilfsangebote\, um Gewalt zu überwinden.\n\nLasst uns gemein
 sam hinschauen\, zuhören und Verantwortung übernehmen.\n\nMehr Infos: w
 ww.rosenstrasse76osnabrueck.de\n\n📧 Anmeldung: partei@gruene-os.de
CLASS:PUBLIC
DTSTART;TZID=Europe/Berlin:20260309T170000
DTEND;TZID=Europe/Berlin:20260309T180000
DTSTAMP:20260424T195529
END:VEVENT
END:VCALENDAR