BEGIN:VCALENDAR
VERSION:2.0
PRODID:gruene-os.de
METHOD:PUBLISH
BEGIN:VTIMEZONE
TZID:Europe/Berlin
X-LIC-LOCATION:Europe/Berlin
BEGIN:DAYLIGHT
TZOFFSETFROM:+0100
TZOFFSETTO:+0200
TZNAME:CEST
DTSTART:19700329T020000
RRULE:FREQ=YEARLY;INTERVAL=1;BYDAY=-1SU;BYMONTH=3
END:DAYLIGHT
BEGIN:STANDARD
TZOFFSETFROM:+0200
TZOFFSETTO:+0100
TZNAME:CET
DTSTART:19701025T030000
RRULE:FREQ=YEARLY;INTERVAL=1;BYDAY=-1SU;BYMONTH=10
END:STANDARD
END:VTIMEZONE
BEGIN:VEVENT
UID:d55499be2f11b7a0d8bd1c2e8d7ac990@gruene-os.de
URL;VALUE=URI:https://gruene-os.de/blog/termine/gedenkfeier-fuer-die-quee
 ren-opfer-des-nationalsozialismus/
LOCATION:Mahnmal gegen Homophobie und für Zivilcourage, Raiffeisen-Platz
 /Heinrich-Heine-Straße
SUMMARY:Gedenkfeier für die queeren Opfer des Nationalsozialismus
DESCRIPTION;ALTREP="data:text/html,%0A%3Ch2%20class%3D%22wp-block-heading
 %22%3EGegen%20das%20Vergessen%3C%2Fh2%3E%0A%0A%0A%0A%3Cp%3EDie%20Initiati
 ve%20Peter%20Hammel%20l%C3%A4dt%20am%2017.%20Mai%20um%2015%20Uhr%20zu%20e
 iner%20Gedenkfeier%20f%C3%BCr%20die%20queeren%20Opfer%20des%20Nationalsoz
 ialismus%20ein.%20%3Cbr%3EQueere%20Menschen%20geh%C3%B6rten%20zu%20den%20
 zahlreichen%20Opfergruppen%20des%20Nationalsozialismus.%20Sie%20wurden%20
 verfolgt%20und%20gemordet.%20%3C%2Fp%3E%0A%0A%0A%0A%3Cp%3E%3C%2Fp%3E%0A":
 Gegen das Vergessen\n\nDie Initiative Peter Hammel lädt am 17. Mai um 15
  Uhr zu einer Gedenkfeier für die queeren Opfer des Nationalsozialismus 
 ein. Queere Menschen gehörten zu den zahlreichen Opfergruppen des Nation
 alsozialismus. Sie wurden verfolgt und gemordet.
CLASS:PUBLIC
DTSTART;TZID=Europe/Berlin:20250517T150000
DTEND;TZID=Europe/Berlin:20250517T160000
DTSTAMP:20260424T195529
END:VEVENT
END:VCALENDAR