BEGIN:VCALENDAR
VERSION:2.0
PRODID:gruene-os.de
METHOD:PUBLISH
BEGIN:VTIMEZONE
TZID:Europe/Berlin
X-LIC-LOCATION:Europe/Berlin
BEGIN:DAYLIGHT
TZOFFSETFROM:+0100
TZOFFSETTO:+0200
TZNAME:CEST
DTSTART:19700329T020000
RRULE:FREQ=YEARLY;INTERVAL=1;BYDAY=-1SU;BYMONTH=3
END:DAYLIGHT
BEGIN:STANDARD
TZOFFSETFROM:+0200
TZOFFSETTO:+0100
TZNAME:CET
DTSTART:19701025T030000
RRULE:FREQ=YEARLY;INTERVAL=1;BYDAY=-1SU;BYMONTH=10
END:STANDARD
END:VTIMEZONE
BEGIN:VEVENT
UID:d2ca2eb774f08e0062aacf2764efcd8e@gruene-os.de
URL;VALUE=URI:https://gruene-os.de/blog/termine/fifty-fifty-mammilein-aus
 stellungsbesuch-mit-kunstgestpraech/
LOCATION:BBK Kunstquartier, Bierstraße 33, Osnabrück
SUMMARY:Fifty Fifty Mammilein – Ausstellungsbesuch mit Kunstgestpräch
DESCRIPTION;ALTREP="data:text/html,%0A%3Cp%3EVom%20Gesang%20%C3%BCber%20K
 n%C3%B6del%20in%20Hosen%20und%20andere%20situativ%20bedingte%20Zust%C3%A4
 nde%20von%20Lara%20Burgmann%20mit%20Zeichnungen%2C%20Objekten%20und%20ein
 er%20Rauminstallation%3A%20Die%20Projektgruppe%20Kultur%20l%C3%A4dt%20zum
 %20Ausstellungsbesuch%20ein.%20Hierbei%20wird%20die%20K%C3%BCnstlerin%20%
 C3%BCber%20ihre%20Arbeit%20und%20Arbeitsbedingungen%20berichten.%20Au%C3%
 9Ferdem%20m%C3%B6chte%20sich%20die%20Projektgruppe%20im%20zweiten%20Teil%
 20mit%20den%20Vorstandsmitgliedern%20des%20Berufsverbandes%20BBK%20%28Bun
 d%20Bildender%20K%C3%BCnstler%3Ainnen%29%20sowie%20des%20K%C3%BCnstlerver
 eins%20austauschen%2C%20um%20Einblicke%20in%20das%20Berufsbild%20Kunstsch
 affender%20zu%20erhalten.%3C%2Fp%3E%0A%0A%0A%0A%3Cp%3EAnmeldungen%3A%26nb
 sp%3B%3Ca%20href%3D%22mailto%3Apartei%40gruene-os.de%22%3Epartei%40gruene
 -os.de%3C%2Fa%3E%3C%2Fp%3E%0A":Vom Gesang über Knödel in Hosen und ande
 re situativ bedingte Zustände von Lara Burgmann mit Zeichnungen\, Objekt
 en und einer Rauminstallation: Die Projektgruppe Kultur lädt zum Ausstel
 lungsbesuch ein. Hierbei wird die Künstlerin über ihre Arbeit und Arbei
 tsbedingungen berichten. Außerdem möchte sich die Projektgruppe im zwei
 ten Teil mit den Vorstandsmitgliedern des Berufsverbandes BBK (Bund Bilde
 nder Künstler:innen) sowie des Künstlervereins austauschen\, um Einblic
 ke in das Berufsbild Kunstschaffender zu erhalten.\n\nAnmeldungen: parte
 i@gruene-os.de
CLASS:PUBLIC
DTSTART;TZID=Europe/Berlin:20250813T180000
DTEND;TZID=Europe/Berlin:20250813T190000
DTSTAMP:20260424T195509
END:VEVENT
END:VCALENDAR