BEGIN:VCALENDAR
VERSION:2.0
PRODID:gruene-os.de
METHOD:PUBLISH
BEGIN:VTIMEZONE
TZID:Europe/Berlin
X-LIC-LOCATION:Europe/Berlin
BEGIN:DAYLIGHT
TZOFFSETFROM:+0100
TZOFFSETTO:+0200
TZNAME:CEST
DTSTART:19700329T020000
RRULE:FREQ=YEARLY;INTERVAL=1;BYDAY=-1SU;BYMONTH=3
END:DAYLIGHT
BEGIN:STANDARD
TZOFFSETFROM:+0200
TZOFFSETTO:+0100
TZNAME:CET
DTSTART:19701025T030000
RRULE:FREQ=YEARLY;INTERVAL=1;BYDAY=-1SU;BYMONTH=10
END:STANDARD
END:VTIMEZONE
BEGIN:VEVENT
UID:f345c264d293bcc02e70390e6ab02b5e@gruene-os.de
URL;VALUE=URI:https://gruene-os.de/blog/termine/erstes-treffen-der-projek
 tgruppe-bildung/
LOCATION:
SUMMARY:Erstes Treffen der Projektgruppe Bildung
DESCRIPTION;ALTREP="data:text/html,%0A%3Cp%3EBildung%20ist%20dein%20Herze
 nsthema%3F%20Dann%20komm%20am%20Montag%2C%2025.%20August%2C%20um%2020%20U
 hr%20zum%20ersten%20Treffen%20unserer%20neuen%20Projektgruppe%20Bildung.%
 20Wir%20wollen%20gemeinsam%20daran%20arbeiten%20Bildung%20in%20Osnabr%C3%
 BCck%20f%C3%BCr%20alle%20gerechter%20und%20zug%C3%A4nglicher%20zu%20gesta
 lten.%20%3C%2Fp%3E%0A%0A%0A%0A%3Cp%3EAuch%20interessierte%20Nicht-Mitglie
 der%20sind%20herzlich%20willkommen.%20Wenn%20du%20dabei%20sein%20willst%2
 C%20melde%20dich%20bei%C2%A0%3Ca%20href%3D%22https%3A%2F%2Fgruene-os.de%2
 Fblog%2Ftermine%2Fprojektgruppentreffen-tierschutz-2%2F%23%22%3Epartei%40
 gruene-os.de%3C%2Fa%3E%20f%C3%BCr%20den%20Zoom-Link.%20%3C%2Fp%3E%0A":Bil
 dung ist dein Herzensthema? Dann komm am Montag\, 25. August\, um 20 Uhr 
 zum ersten Treffen unserer neuen Projektgruppe Bildung. Wir wollen gemein
 sam daran arbeiten Bildung in Osnabrück für alle gerechter und zugängl
 icher zu gestalten.\n\nAuch interessierte Nicht-Mitglieder sind herzlich 
 willkommen. Wenn du dabei sein willst\, melde dich bei partei@gruene-os.
 de für den Zoom-Link.
CLASS:PUBLIC
DTSTART;TZID=Europe/Berlin:20250825T200000
DTEND;TZID=Europe/Berlin:20250825T210000
DTSTAMP:20260424T194926
END:VEVENT
END:VCALENDAR