BEGIN:VCALENDAR
VERSION:2.0
PRODID:gruene-os.de
METHOD:PUBLISH
BEGIN:VTIMEZONE
TZID:Europe/Berlin
X-LIC-LOCATION:Europe/Berlin
BEGIN:DAYLIGHT
TZOFFSETFROM:+0100
TZOFFSETTO:+0200
TZNAME:CEST
DTSTART:19700329T020000
RRULE:FREQ=YEARLY;INTERVAL=1;BYDAY=-1SU;BYMONTH=3
END:DAYLIGHT
BEGIN:STANDARD
TZOFFSETFROM:+0200
TZOFFSETTO:+0100
TZNAME:CET
DTSTART:19701025T030000
RRULE:FREQ=YEARLY;INTERVAL=1;BYDAY=-1SU;BYMONTH=10
END:STANDARD
END:VTIMEZONE
BEGIN:VEVENT
UID:654cb67c78774008f59480110a650574@gruene-os.de
URL;VALUE=URI:https://gruene-os.de/blog/termine/doener-mit-luca/
LOCATION:Zum Drehspieß, Große Hamkenstraße 21, Osnabrück
SUMMARY:Döner mit Luca
DESCRIPTION;ALTREP="data:text/html,%0A%3Cp%3EWir%20wollen%20das%20Leben%2
 0wieder%20bezahlbar%20machen%20und%20was%20ist%20-%20gerade%20bei%20junge
 n%20Leuten%20-%20mehr%20als%20alles%20andere%20Indikator%20f%C3%BCr%20die
 %20Bezahlbarkeit%3F%20Klar%2C%20der%20D%C3%B6ner%21%20Deshalb%20laden%20w
 ir%20am%20Freitag%20von%2017%3A00%20bis%2019%3A00%20Uhr%20zum%20Drehspie%
 C3%9F%20auf%20einen%20kostenlosen%20veganen%20D%C3%B6ner%20ein.%20Und%20w
 er%20w%C3%A4re%20Luca%2C%20wenn%20sie%20nicht%20selbst%20anpacken%20und%2
 0die%20D%C3%B6ner%20zubereiten%20und%20ausgeben%20w%C3%BCrde%3F%20Dabei%2
 0soll%20es%20aber%20auch%20Gelegenheit%20geben%2C%20miteinander%20ins%20G
 espr%C3%A4ch%20zu%20kommen%20und%20Fragen%20zu%20stellen.%26nbsp%3B%3C%2F
 p%3E%0A%0A%0A%0A%3Cp%3EAlso%20bringt%20eure%20Freund%2Ainnen%2C%20Nachbar
 %2Ainnen%20und%20wen%20ihr%20sonst%20noch%20von%20einem%20D%C3%B6ner%20%C
 3%BCberzeugen%20k%C3%B6nnt%20und%20lasst%20uns%20dar%C3%BCber%20sprechen%
 2C%20wie%20wir%20das%20Leben%20wieder%20bezahlbar%20machen.%26nbsp%3B%3C%
 2Fp%3E%0A":Wir wollen das Leben wieder bezahlbar machen und was ist - ger
 ade bei jungen Leuten - mehr als alles andere Indikator für die Bezahlba
 rkeit? Klar\, der Döner! Deshalb laden wir am Freitag von 17:00 bis 19:0
 0 Uhr zum Drehspieß auf einen kostenlosen veganen Döner ein. Und wer w
 äre Luca\, wenn sie nicht selbst anpacken und die Döner zubereiten und 
 ausgeben würde? Dabei soll es aber auch Gelegenheit geben\, miteinander 
 ins Gespräch zu kommen und Fragen zu stellen. \n\nAlso bringt eure Freu
 nd*innen\, Nachbar*innen und wen ihr sonst noch von einem Döner überzeu
 gen könnt und lasst uns darüber sprechen\, wie wir das Leben wieder bez
 ahlbar machen. 
CLASS:PUBLIC
DTSTART;TZID=Europe/Berlin:20250214T170000
DTEND;TZID=Europe/Berlin:20250214T180000
DTSTAMP:20260424T193735
END:VEVENT
END:VCALENDAR