BEGIN:VCALENDAR
VERSION:2.0
PRODID:gruene-os.de
METHOD:PUBLISH
BEGIN:VTIMEZONE
TZID:Europe/Berlin
X-LIC-LOCATION:Europe/Berlin
BEGIN:DAYLIGHT
TZOFFSETFROM:+0100
TZOFFSETTO:+0200
TZNAME:CEST
DTSTART:19700329T020000
RRULE:FREQ=YEARLY;INTERVAL=1;BYDAY=-1SU;BYMONTH=3
END:DAYLIGHT
BEGIN:STANDARD
TZOFFSETFROM:+0200
TZOFFSETTO:+0100
TZNAME:CET
DTSTART:19701025T030000
RRULE:FREQ=YEARLY;INTERVAL=1;BYDAY=-1SU;BYMONTH=10
END:STANDARD
END:VTIMEZONE
BEGIN:VEVENT
UID:084bf8ddb7363205a4a422ac2389e355@gruene-os.de
URL;VALUE=URI:https://gruene-os.de/blog/termine/demonstration-wehrhaft-de
 mokratisch-solidarisch-in-betrieb-und-gesellschaft/
LOCATION:Kollegienwall
SUMMARY:Demonstration: Wehrhaft demokratisch –solidarisch in Betrieb un
 d Gesellschaft!
DESCRIPTION;ALTREP="data:text/html,%0A%3Cp%3EDer%20Deutscher%20Gewerkscha
 ftsbund%20l%C3%A4dt%20im%20Rahmen%20seiner%20Maikundgebung%20ab%2010%20Uh
 r%20am%20Kollegienwall%20zu%20einer%20Demo%20unter%20dem%20Motto%20%22Weh
 rhaft%20demokratisch%20%E2%80%93solidarisch%20in%20Betrieb%20und%20Gesell
 schaft%21%22%20ein.%3C%2Fp%3E%0A%0A%0A%0A%3Cp%3E%3C%2Fp%3E%0A":Der Deutsc
 her Gewerkschaftsbund lädt im Rahmen seiner Maikundgebung ab 10 Uhr am K
 ollegienwall zu einer Demo unter dem Motto "Wehrhaft demokratisch –soli
 darisch in Betrieb und Gesellschaft!" ein.
CLASS:PUBLIC
DTSTART;TZID=Europe/Berlin:20250501T100000
DTEND;TZID=Europe/Berlin:20250501T110000
DTSTAMP:20260424T195508
END:VEVENT
END:VCALENDAR