BEGIN:VCALENDAR
VERSION:2.0
PRODID:gruene-os.de
METHOD:PUBLISH
BEGIN:VTIMEZONE
TZID:Europe/Berlin
X-LIC-LOCATION:Europe/Berlin
BEGIN:DAYLIGHT
TZOFFSETFROM:+0100
TZOFFSETTO:+0200
TZNAME:CEST
DTSTART:19700329T020000
RRULE:FREQ=YEARLY;INTERVAL=1;BYDAY=-1SU;BYMONTH=3
END:DAYLIGHT
BEGIN:STANDARD
TZOFFSETFROM:+0200
TZOFFSETTO:+0100
TZNAME:CET
DTSTART:19701025T030000
RRULE:FREQ=YEARLY;INTERVAL=1;BYDAY=-1SU;BYMONTH=10
END:STANDARD
END:VTIMEZONE
BEGIN:VEVENT
UID:a444611059339d8165aa918bcfc9aae2@gruene-os.de
URL;VALUE=URI:https://gruene-os.de/blog/termine/demo-gegen-rechts-2/
LOCATION:Domhof Osnabrück
SUMMARY:Demo gegen Rechts
DESCRIPTION;ALTREP="data:text/html,%0A%3Cp%3EAm%20Samstag%2C%2015.%20Febr
 uar%2C%20ruft%20ein%20buntes%20B%C3%BCndnis%20aus%20Vereinen%2C%20Organis
 ationen%20und%20Institutionen%20aus%20Osnabr%C3%BCck%20zu%20einer%20Demo%
 20gegen%20Rechts%20auf%20dem%20Domhof%20unter%20dem%20Titel%20%E2%80%9EWi
 r%20sind%20einfach%20mehr%21%E2%80%9C%20auf.%20Los%20geht%E2%80%99s%20um%
 2014%3A30%20Uhr.%3C%2Fp%3E%0A%0A%0A%0A%3Cp%3EWeitere%20Infos%20sind%20auf
 %20der%20%3Ca%20href%3D%22https%3A%2F%2Fexilverein.de%2Fwirsindeinfachmeh
 r%2F%22%3EWebseite%20von%20EXIL%20%3C%2Fa%3Ezu%20finden.%20%3C%2Fp%3E%0A%
 0A%0A%0A%3Cp%3E%3Cem%3EHinweis%3A%20Es%20werden%20noch%20Ordner%2Ainnen%2
 0f%C3%BCr%20die%20Veranstaltung%20gesucht.%20Wenn%20ihr%20Lust%20habt%20h
 ier%20zu%20unterst%C3%BCtzen%20meldet%20euch%20unter%20partei%40gruene-os
 .de.%3C%2Fem%3E%3C%2Fp%3E%0A%0A%0A%0A%3Cp%3E%3C%2Fp%3E%0A":Am Samstag\, 1
 5. Februar\, ruft ein buntes Bündnis aus Vereinen\, Organisationen und I
 nstitutionen aus Osnabrück zu einer Demo gegen Rechts auf dem Domhof unt
 er dem Titel „Wir sind einfach mehr!“ auf. Los geht’s um 14:30 Uhr.
 \n\nWeitere Infos sind auf der Webseite von EXIL zu finden.\n\nHinweis: E
 s werden noch Ordner*innen für die Veranstaltung gesucht. Wenn ihr Lust 
 habt hier zu unterstützen meldet euch unter partei@gruene-os.de.
CLASS:PUBLIC
DTSTART;TZID=Europe/Berlin:20250215T143000
DTEND;TZID=Europe/Berlin:20250215T160000
DTSTAMP:20260424T193802
END:VEVENT
END:VCALENDAR