BEGIN:VCALENDAR
VERSION:2.0
PRODID:gruene-os.de
METHOD:PUBLISH
BEGIN:VTIMEZONE
TZID:Europe/Berlin
X-LIC-LOCATION:Europe/Berlin
BEGIN:DAYLIGHT
TZOFFSETFROM:+0100
TZOFFSETTO:+0200
TZNAME:CEST
DTSTART:19700329T020000
RRULE:FREQ=YEARLY;INTERVAL=1;BYDAY=-1SU;BYMONTH=3
END:DAYLIGHT
BEGIN:STANDARD
TZOFFSETFROM:+0200
TZOFFSETTO:+0100
TZNAME:CET
DTSTART:19701025T030000
RRULE:FREQ=YEARLY;INTERVAL=1;BYDAY=-1SU;BYMONTH=10
END:STANDARD
END:VTIMEZONE
BEGIN:VEVENT
UID:007a545f25bff434deb5d8b72a360ed3@gruene-os.de
URL;VALUE=URI:https://gruene-os.de/blog/termine/demo-gegen-rechts/
LOCATION:Osnabrück, Schlossgarten, Osnabrück
SUMMARY:Demo gegen Rechts
DESCRIPTION;ALTREP="data:text/html,%0A%3Cp%3E%3Cstrong%3EOsnabr%C3%BCck%2
 0bekennt%20Farbe%20-%20Gegen%20Faschismus%2C%20f%C3%BCr%20Demokratie%21%2
 0%3C%2Fstrong%3E%3C%2Fp%3E%0A%0A%0A%0A%3Cp%3EDemo%20am%2027.%20Januar%20u
 m%2010%3A30%20Uhr%2C%20Schlossgarten.%3C%2Fp%3E%0A%0A%0A%0A%3Cp%3E%22Als%
 20die%20Nazis%20die%20Kommunisten%20holten%2C%20habe%20ich%20geschwiegen%
 3B%20ich%20war%20ja%20kein%20Kommunist.%20Als%20sie%20die%20Gewerkschaftl
 er%20holten%2C%20habe%20ich%20geschwiegen%2C%20ich%20war%20ja%20kein%20Ge
 werkschaftler.%20Als%20sie%20die%20Juden%20holten%2C%20habe%20ich%20gesch
 wiegen%2C%20ich%20war%20ja%20kein%20Jude.%20Als%20sie%20mich%20holten%2C%
 20gab%20es%20keinen%20mehr%2C%20der%20protestieren%20konnte.%22%20-%20Mar
 tin%20Niem%C3%B6ller%3C%2Fp%3E%0A%0A%0A%0A%3Cp%3E50.000%20Menschen%20in%2
 0Hamburg%2C%2035.000%20in%20Hannover%2C%2020.000%20in%20M%C3%BCnster%2C%2
 010.000%20in%20Bochum%20und%20zehntausende%20mehr%20in%20vielen%20St%C3%A
 4dten%20bundesweit.%20Nach%20den%20Correctiv-Enth%C3%BCllungen%20%C3%BCbe
 r%20AfD-Deportationspl%C3%A4ne%20geht%20ein%20gewaltiger%20und%20bewegend
 er%20Ruck%20durch%20diese%20Republik.%20Quer%20durch%20alle%20Schichten%2
 0gehen%20die%20Leute%20auf%20die%20Stra%C3%9Fe%20und%20zeigen%20den%20rec
 hten%20Hetzern%20und%20Verschw%C3%B6rern%2C%20dass%20dieses%20Land%20bunt
 %20und%20vielf%C3%A4ltig%20ist%20und%20kein%20Platz%20f%C3%BCr%20ihre%20m
 enschenfeindliche%20Ideologie%20hat.%3C%2Fp%3E%0A%0A%0A%0A%3Cp%3EIn%20uns
 erer%20Friedensstadt%20w%C3%A4ren%20etwa%20ein%20Drittel%20der%20Osnabr%C
 3%BCcker%2Ainnen%20von%20den%20Pl%C3%A4nen%20der%20Rechtsextremen%20betro
 ffen.%20Das%20sind%20Menschen%2C%20die%20in%20dieser%20Stadt%20aufgewachs
 en%20sind%20oder%20in%20ihr%20eine%20neue%20Heimat%20gefunden%20haben.%20
 Das%20sind%20Menschen%2C%20die%20in%20Vereinen%20und%20Initiativen%20das%
 20Leben%20in%20dieser%20Stadt%20lebenswerter%20machen.%20Das%20sind%20uns
 ere%20Freund%2Ainnen%2C%20Nachbar%2Ainnen%2C%20Kolleg%2Ainnen.%20Das%20si
 nd%20Familienmitglieder%20und%20Menschen%2C%20die%20das%20Gesicht%20diese
 r%20Stadt%20pr%C3%A4gen.%20Es%20ist%20an%20der%20Zeit%2C%20dass%20sich%20
 die%20breite%20gesellschaftliche%20Mehrheit%20sich%20sch%C3%BCtzend%20vor
 %20sie%20stellt%20und%20den%20Menschenfeinden%20zeigt%3A%20Wir%20geben%20
 euch%20keinen%20Fu%C3%9Fbreit%21%3C%2Fp%3E%0A%0A%0A%0A%3Cp%3EAuch%20in%20
 Osnabr%C3%BCck%20gehen%20die%20Planung%20f%C3%BCr%20eine%20gro%C3%9Fe%20K
 undgebung%20am%20Samstag%2C%20den%2027.%20Januar%20um%2010%3A30%20Uhr%20i
 m%20Schlossgarten%20voran.%20Wir%20hoffen%20auf%20eine%20gro%C3%9Fe%2C%20
 bunte%20Kundgebung%20und%20freuen%20uns%2C%20Euch%20am%20Samstag%20zu%20s
 ehen.%C2%A0%3C%2Fp%3E%0A":Osnabrück bekennt Farbe - Gegen Faschismus\, f
 ür Demokratie!\n\nDemo am 27. Januar um 10:30 Uhr\, Schlossgarten.\n\n"A
 ls die Nazis die Kommunisten holten\, habe ich geschwiegen\; ich war ja k
 ein Kommunist. Als sie die Gewerkschaftler holten\, habe ich geschwiegen\
 , ich war ja kein Gewerkschaftler. Als sie die Juden holten\, habe ich ge
 schwiegen\, ich war ja kein Jude. Als sie mich holten\, gab es keinen meh
 r\, der protestieren konnte." - Martin Niemöller\n\n50.000 Menschen in H
 amburg\, 35.000 in Hannover\, 20.000 in Münster\, 10.000 in Bochum und z
 ehntausende mehr in vielen Städten bundesweit. Nach den Correctiv-Enthü
 llungen über AfD-Deportationspläne geht ein gewaltiger und bewegender R
 uck durch diese Republik. Quer durch alle Schichten gehen die Leute auf d
 ie Straße und zeigen den rechten Hetzern und Verschwörern\, dass dieses
  Land bunt und vielfältig ist und kein Platz für ihre menschenfeindlich
 e Ideologie hat.\n\nIn unserer Friedensstadt wären etwa ein Drittel der 
 Osnabrücker*innen von den Plänen der Rechtsextremen betroffen. Das sind
  Menschen\, die in dieser Stadt aufgewachsen sind oder in ihr eine neue H
 eimat gefunden haben. Das sind Menschen\, die in Vereinen und Initiativen
  das Leben in dieser Stadt lebenswerter machen. Das sind unsere Freund*in
 nen\, Nachbar*innen\, Kolleg*innen. Das sind Familienmitglieder und Mensc
 hen\, die das Gesicht dieser Stadt prägen. Es ist an der Zeit\, dass sic
 h die breite gesellschaftliche Mehrheit sich schützend vor sie stellt un
 d den Menschenfeinden zeigt: Wir geben euch keinen Fußbreit!\n\nAuch in 
 Osnabrück gehen die Planung für eine große Kundgebung am Samstag\, den
  27. Januar um 10:30 Uhr im Schlossgarten voran. Wir hoffen auf eine gro
 ße\, bunte Kundgebung und freuen uns\, Euch am Samstag zu sehen. 
CLASS:PUBLIC
DTSTART;TZID=Europe/Berlin:20240127T103000
DTEND;TZID=Europe/Berlin:20240127T130000
DTSTAMP:20260421T191802
END:VEVENT
END:VCALENDAR