BEGIN:VCALENDAR
VERSION:2.0
PRODID:gruene-os.de
METHOD:PUBLISH
BEGIN:VTIMEZONE
TZID:Europe/Berlin
X-LIC-LOCATION:Europe/Berlin
BEGIN:DAYLIGHT
TZOFFSETFROM:+0100
TZOFFSETTO:+0200
TZNAME:CEST
DTSTART:19700329T020000
RRULE:FREQ=YEARLY;INTERVAL=1;BYDAY=-1SU;BYMONTH=3
END:DAYLIGHT
BEGIN:STANDARD
TZOFFSETFROM:+0200
TZOFFSETTO:+0100
TZNAME:CET
DTSTART:19701025T030000
RRULE:FREQ=YEARLY;INTERVAL=1;BYDAY=-1SU;BYMONTH=10
END:STANDARD
END:VTIMEZONE
BEGIN:VEVENT
UID:818dc2b05812a3e5f8734d47ae5eb632@gruene-os.de
URL;VALUE=URI:https://gruene-os.de/blog/termine/demo-feministischer-wider
 stand/
LOCATION:DGB-Gebäude, August-Bebel-Platz 1, Osnabrück
SUMMARY:DEMO – Feministischer Widerstand
DESCRIPTION;ALTREP="data:text/html,%0A%3Cp%3EDie%20Rechten%20wollen%20uns
 %20die%20Rechte%20nehmen%21%20Unsere%20Antwort%3A%20Feministischer%20Wide
 rstand%21%20W%C3%A4hrend%20feministische%20Errungenschaften%20weltweit%20
 unter%20Beschuss%20stehen%2C%20nehmen%20patriarchale%20Gewalt%2C%20sozial
 e%20Ungerechtigkeit%20und%20rechte%20Angriffe%20immer%20weiter%20zu.%20In
 %20Zeiten%20von%20steigender%20rechter%20Hetze%2C%20antifeministischen%20
 R%C3%BCckschritten%20und%20Angriffen%20auf%20queere%20Communities%20ist%2
 0unser%20Protest%20wichtiger%20denn%20je%21%20Also%20geht%20mit%20uns%20a
 uf%20die%20Stra%C3%9Fe.%3C%2Fp%3E%0A%0A%0A%0A%3Cp%3EAlle%20Infos%20zum%20
 gesamten%20Programm%20rund%20um%20den%20Frauenkampftag%20gibt%20%3Ca%20hr
 ef%3D%22https%3A%2F%2Fstaerkt.osnabrueck.de%2Fde%2Fchancengleichheit-und-
 teilhabe%2Fgleichstellungsbuero%2F%22%3Ehier%3C%2Fa%3E.%3C%2Fp%3E%0A%0A%0
 A%0A%3Cp%3E%3C%2Fp%3E%0A":Die Rechten wollen uns die Rechte nehmen! Unser
 e Antwort: Feministischer Widerstand! Während feministische Errungenscha
 ften weltweit unter Beschuss stehen\, nehmen patriarchale Gewalt\, sozial
 e Ungerechtigkeit und rechte Angriffe immer weiter zu. In Zeiten von stei
 gender rechter Hetze\, antifeministischen Rückschritten und Angriffen au
 f queere Communities ist unser Protest wichtiger denn je! Also geht mit u
 ns auf die Straße.\n\nAlle Infos zum gesamten Programm rund um den Fraue
 nkampftag gibt hier.
CLASS:PUBLIC
DTSTART;TZID=Europe/Berlin:20250308T140000
DTEND;TZID=Europe/Berlin:20250308T150000
DTSTAMP:20260424T194001
END:VEVENT
END:VCALENDAR