BEGIN:VCALENDAR
VERSION:2.0
PRODID:gruene-os.de
METHOD:PUBLISH
BEGIN:VTIMEZONE
TZID:Europe/Berlin
X-LIC-LOCATION:Europe/Berlin
BEGIN:DAYLIGHT
TZOFFSETFROM:+0100
TZOFFSETTO:+0200
TZNAME:CEST
DTSTART:19700329T020000
RRULE:FREQ=YEARLY;INTERVAL=1;BYDAY=-1SU;BYMONTH=3
END:DAYLIGHT
BEGIN:STANDARD
TZOFFSETFROM:+0200
TZOFFSETTO:+0100
TZNAME:CET
DTSTART:19701025T030000
RRULE:FREQ=YEARLY;INTERVAL=1;BYDAY=-1SU;BYMONTH=10
END:STANDARD
END:VTIMEZONE
BEGIN:VEVENT
UID:e27d348c0ba9c2c7f8e7854671f510ab@gruene-os.de
URL;VALUE=URI:https://gruene-os.de/blog/termine/baukulturgespraeche-retai
 l-in-transition-verkaufswelten-im-umbruch/
LOCATION:Felix-Nussbaum-Haus, Osnabrück
SUMMARY:Baukulturgespräche – Retail in Transition – Verkaufswelten i
 m Umbruch
DESCRIPTION;ALTREP="data:text/html,%0A%3Cp%3Emit%20Caspar%20Schmitz-Morkr
 amer%3C%2Fp%3E%0A%0A%0A%0A%3Cp%3EWie%20werden%20die%20St%C3%A4dte%20mit%2
 0der%20drohenden%20Ver%C3%B6dung%20ihrer%20Zentren%20umgehen%3F%20Was%20t
 reibt%20die%20Menschen%20in%20oder%20aus%20den%20Innen-st%C3%A4dten%3F%20
 Welche%20Antworten%20kann%20Architektur%20darauf%20finden%3F%20In%20diese
 m%20Kontext%20erstellte%20caspar.esearch%20%E2%80%93%20die%20Forschungsab
 teilung%20des%20Architekturb%C3%BCros%20caspar.%20%E2%80%93%20unter%20dem
 %20Titel%20%E2%80%9ERetail%20in%20Transition%20%E2%80%93%20Verkaufswelten
 %20im%20Umbruch%E2%80%9C%20eine%20kritische%20Studie%2C%20die%20darauf%20
 abzielt%2C%20die%20rasanten%20Ver%C3%A4nderungen%2C%20besonders%20im%20de
 utschen%20Einzelhandel%2C%20besser%20zu%20verstehen.%20Caspar%20Schmitz-M
 orkramer%20wird%20einen%20Einblick%20in%20die%20Studie%20geben%20und%20ve
 rsuchen%2C%20Antworten%20auf%20die%20durch%20den%20Innenstadtwandel%20bed
 ingten%20Herausforderungen%20zu%20finden.%3C%2Fp%3E%0A%0A%0A%0A%3Cp%3EDer
 %20Referent%3Cbr%3ECaspar%20Schmitz-Morkramer%20studierte%20Architektur%2
 0an%20der%20RWTH%20in%20Aachen%20und%20der%20TU%20Berlin.%20Schon%20als%2
 0Jugendlicher%20war%20er%20an%20Kunst%20und%20Architektur%20interessiert.
 %20Aus%20diesem%20Interesse%20heraus%20nahm%20er%20noch%20vor%20seinen%20
 Studien%20an%20Architekturkursen%20in%20New%20York%20City%20teil%20und%20
 lernte%20klassisches%20Zeichnen%20in%20Florenz.%20Erste%20Arbeitserfahrun
 gen%20erlangte%20er%20bei%20Murphy%2FJahn%20%28Chicago%29%20und%20Renzo%2
 0Piano%20%28Genua%29.%202019%20ging%20sein%20Architekturb%C3%BCro%20caspa
 r.%20aus%20der%202004%20gegr%C3%BCndeten%20B%C3%BCropartnerschaft%20meyer
 schmitzmorkramer%20hervor.%20Die%20Arbeit%20von%20Caspar%20Schmitz-Morkra
 mer%20wurden%20mit%20zahlreichen%20Preisen%20und%20Auszeichnungen%20gew%C
 3%BCrdigt.%3C%2Fp%3E%0A%0A%0A%0A%3Cp%3EWeitere%20Baukulturgespr%C3%A4che%
 202022%20finden%20statt%3C%2Fp%3E%0A%0A%0A%0A%3Cp%3Eam%2013.%20September%
 2C%20Daniel%20Fuhrhop%20%22%3Ca%20href%3D%22https%3A%2F%2Fbaukultur-os.de
 %2Fveranstaltungen%2Fbaukulturgesprache-daniel-fuhrhop%22%20target%3D%22_
 blank%22%20rel%3D%22noreferrer%20noopener%22%3EDas%20Stadtzentrum%20weite
 r%20denken%3C%2Fa%3E%22%3Cbr%3Eam%206.%20Oktober%2C%20Prof.%20Claudie%20S
 chmidt%20%22%3Ca%20href%3D%22https%3A%2F%2Fbaukultur-os.de%2Fveranstaltun
 gen%2Fbaukulturgesprache-claudia-schmidt%22%20target%3D%22_blank%22%20rel
 %3D%22noreferrer%20noopener%22%3EM%C3%BCssen%20wir%20zur%C3%BCck%20in%20d
 ie%20Zukunft%3F%3C%2Fa%3E%22%3Cbr%3Eam%2024.%20November%2C%20Prof.%20Dr.%
 20Thorsten%20B%C3%BCrklin%20%22%3Ca%20href%3D%22https%3A%2F%2Fbaukultur-o
 s.de%2Fveranstaltungen%2Fbaukulturgesprache-thorsten-buerklin%22%20target
 %3D%22_blank%22%20rel%3D%22noreferrer%20noopener%22%3EDie%20Innenstadt%20
 denken.%20Die%20Innenstadt%20leben.%3C%2Fa%3E%22%3C%2Fp%3E%0A":mit Caspar
  Schmitz-Morkramer\n\nWie werden die Städte mit der drohenden Verödung 
 ihrer Zentren umgehen? Was treibt die Menschen in oder aus den Innen-stä
 dten? Welche Antworten kann Architektur darauf finden? In diesem Kontext 
 erstellte caspar.esearch – die Forschungsabteilung des Architekturbüro
 s caspar. – unter dem Titel „Retail in Transition – Verkaufswelten 
 im Umbruch“ eine kritische Studie\, die darauf abzielt\, die rasanten V
 eränderungen\, besonders im deutschen Einzelhandel\, besser zu verstehen
 . Caspar Schmitz-Morkramer wird einen Einblick in die Studie geben und ve
 rsuchen\, Antworten auf die durch den Innenstadtwandel bedingten Herausfo
 rderungen zu finden.\n\nDer ReferentCaspar Schmitz-Morkramer studierte Ar
 chitektur an der RWTH in Aachen und der TU Berlin. Schon als Jugendlicher
  war er an Kunst und Architektur interessiert. Aus diesem Interesse herau
 s nahm er noch vor seinen Studien an Architekturkursen in New York City t
 eil und lernte klassisches Zeichnen in Florenz. Erste Arbeitserfahrungen 
 erlangte er bei Murphy/Jahn (Chicago) und Renzo Piano (Genua). 2019 ging 
 sein Architekturbüro caspar. aus der 2004 gegründeten Büropartnerschaf
 t meyerschmitzmorkramer hervor. Die Arbeit von Caspar Schmitz-Morkramer w
 urden mit zahlreichen Preisen und Auszeichnungen gewürdigt.\n\nWeitere B
 aukulturgespräche 2022 finden statt\n\nam 13. September\, Daniel Fuhrhop
  "Das Stadtzentrum weiter denken"am 6. Oktober\, Prof. Claudie Schmidt "M
 üssen wir zurück in die Zukunft?"am 24. November\, Prof. Dr. Thorsten B
 ürklin "Die Innenstadt denken. Die Innenstadt leben."
CLASS:PUBLIC
DTSTART;TZID=Europe/Berlin:20221102T180000
DTEND;TZID=Europe/Berlin:20221102T190000
DTSTAMP:20260424T195530
END:VEVENT
END:VCALENDAR