BEGIN:VCALENDAR
VERSION:2.0
PRODID:gruene-os.de
METHOD:PUBLISH
BEGIN:VTIMEZONE
TZID:Europe/Berlin
X-LIC-LOCATION:Europe/Berlin
BEGIN:DAYLIGHT
TZOFFSETFROM:+0100
TZOFFSETTO:+0200
TZNAME:CEST
DTSTART:19700329T020000
RRULE:FREQ=YEARLY;INTERVAL=1;BYDAY=-1SU;BYMONTH=3
END:DAYLIGHT
BEGIN:STANDARD
TZOFFSETFROM:+0200
TZOFFSETTO:+0100
TZNAME:CET
DTSTART:19701025T030000
RRULE:FREQ=YEARLY;INTERVAL=1;BYDAY=-1SU;BYMONTH=10
END:STANDARD
END:VTIMEZONE
BEGIN:VEVENT
UID:126617bb14a2255cac542234c700c2cd@gruene-os.de
URL;VALUE=URI:https://gruene-os.de/blog/termine/auftakt-osnabrueck-wie-ge
 hts-im-schinkel/
LOCATION:Ecke Tannenburgstraße/Schützenstr
SUMMARY:Auftakt: Osnabrück wie geht´s? – im Schinkel
DESCRIPTION;ALTREP="data:text/html,%0A%3Cp%3EWir%20sind%20jeden%20Samstag
 %20zwischen%2011-12%20Uhr%20in%20einem%20Stadtteil%20Osnabr%C3%BCcks%20un
 terwegs.%20Los%20geht%E2%80%99s%20am%20Samstag%2C%20den%2010.%20Mai%20zwi
 schen%2010%20und%2012%20Uhr%20im%20Schinkel%20%E2%80%93%20Ecke%20Tannenbu
 rgstra%C3%9Fe%2FSch%C3%BCtzenstra%C3%9Fe.%3C%2Fp%3E%0A%0A%0A%0A%3Cp%3EWir
 %20wollen%20mit%20euch%20ins%20Gespr%C3%A4ch%20kommen%2C%20aber%20vor%20a
 llem%20ein%20offenes%20Ohr%20anbieten%3A%20Was%20bewegt%20euch%20in%20eur
 em%20Alltag%3F%20Wo%20dr%C3%BCckt%20der%20Schuh%2C%20was%20l%C3%A4uft%20g
 ut%2C%20was%20l%C3%A4uft%20schlecht%3F%20Was%20braucht%20es%20in%20der%20
 Stadt%3F%20Wo%20k%C3%B6nnen%20wir%20aushelfen%3F%3C%2Fp%3E%0A%0A%0A%0A%3C
 p%3EWir%20freuen%20uns%20auf%20Gespr%C3%A4che%20mit%20euch%21%3C%2Fp%3E%0
 A":Wir sind jeden Samstag zwischen 11-12 Uhr in einem Stadtteil Osnabrüc
 ks unterwegs. Los geht’s am Samstag\, den 10. Mai zwischen 10 und 12 Uh
 r im Schinkel – Ecke Tannenburgstraße/Schützenstraße.\n\nWir wollen 
 mit euch ins Gespräch kommen\, aber vor allem ein offenes Ohr anbieten: 
 Was bewegt euch in eurem Alltag? Wo drückt der Schuh\, was läuft gut\, 
 was läuft schlecht? Was braucht es in der Stadt? Wo können wir aushelfe
 n?\n\nWir freuen uns auf Gespräche mit euch!
CLASS:PUBLIC
DTSTART;TZID=Europe/Berlin:20250510T100000
DTEND;TZID=Europe/Berlin:20250510T120000
DTSTAMP:20260424T195531
END:VEVENT
END:VCALENDAR