BEGIN:VCALENDAR
VERSION:2.0
PRODID:gruene-os.de
METHOD:PUBLISH
BEGIN:VTIMEZONE
TZID:Europe/Berlin
X-LIC-LOCATION:Europe/Berlin
BEGIN:DAYLIGHT
TZOFFSETFROM:+0100
TZOFFSETTO:+0200
TZNAME:CEST
DTSTART:19700329T020000
RRULE:FREQ=YEARLY;INTERVAL=1;BYDAY=-1SU;BYMONTH=3
END:DAYLIGHT
BEGIN:STANDARD
TZOFFSETFROM:+0200
TZOFFSETTO:+0100
TZNAME:CET
DTSTART:19701025T030000
RRULE:FREQ=YEARLY;INTERVAL=1;BYDAY=-1SU;BYMONTH=10
END:STANDARD
END:VTIMEZONE
BEGIN:VEVENT
UID:72fa3c06839679765380757c1a610bcd@gruene-os.de
URL;VALUE=URI:https://gruene-os.de/blog/termine/auf-ins-europajahr-2024/
LOCATION:Lagerhalle: Spitzboden, Rolandsmauer 26, Osnabrück
SUMMARY:DEPORTATIONSPLÄNE VON AFD & CO – KOMMT JETZT DAS AFD-VERBOT?
DESCRIPTION;ALTREP="data:text/html,%0A%3Cp%3E%3Cstrong%3E1.%20Mitgliederv
 ersammlung%20des%20Jahres%20am%2024.%20Januar%20um%2019%3A00%20Uhr%20in%2
 0der%20Lagerhalle%2C%20Spitzboden%20%28Rolandsmauer%2026%29%3C%2Fstrong%3
 E%3C%2Fp%3E%0A%0A%0A%0A%3Cp%3ESie%20planen%20die%20Deportation%20von%20Mi
 llionen%20Menschen.%20Etwa%20ein%20Drittel%20der%20Osnabr%C3%BCcker%2Ainn
 en%20und%20rund%2020%20Millionen%20Menschen%20in%20Deutschland%20wollen%2
 0sie%20vertreiben.%20Ganz%20offen%20diskutieren%20Nazis%2C%20Identit%C3%A
 4re%2C%20AfD-Vertreter%2Ainnen%20und%20Rechtskonservative%20%C3%BCber%20i
 hre%20menschenverachtenden%20Pl%C3%A4ne.%20Getrieben%20vom%20Hass%20gegen
 %20alles%20%28vermeintlich%29%20Fremde%2C%20wollen%20sie%20Verfassungsgru
 nds%C3%A4tze%20aus%20dem%20Weg%20schaffen.%20Selbst%20Deutsche%20mit%20Mi
 grationsgeschichte%2C%20obwohl%20sie%20eigentlich%20durch%20ihren%20Pass%
 20besonders%20gesch%C3%BCtzt%20sind%2C%20sollen%20nicht%20verschont%20ble
 iben.%20%3C%2Fp%3E%0A%0A%0A%0A%3Cp%3EUnter%20der%20%C3%9Cberschrift%20%E2
 %80%9EDeportationspl%C3%A4ne%20von%20AfD%20%26amp%3B%20Co%20-%20Kommt%20j
 etzt%20das%20AfD-Verbot%3F%E2%80%9C%20wollen%20die%20Osnabr%C3%BCcker%20G
 R%C3%9CNEN%20gemeinsam%20mit%20dem%20Strafrechtsanwalt%20Thomas%20Klein%2
 0eine%20juristische%20Bewertung%20und%20politische%20Einordnung%20der%20j
 %C3%BCngsten%20Enth%C3%BCllungen%20%C3%BCber%20die%20AfD%20und%20ihre%20r
 echtsextremen%20Mitstreiter%2Ainnen%20vornehmen%20und%20%C3%BCber%20die%2
 0Chancen%20und%20Risiken%20eines%20AfD-Verbots%20reden.%3C%2Fp%3E%0A":1. 
 Mitgliederversammlung des Jahres am 24. Januar um 19:00 Uhr in der Lagerh
 alle\, Spitzboden (Rolandsmauer 26)\n\nSie planen die Deportation von Mil
 lionen Menschen. Etwa ein Drittel der Osnabrücker*innen und rund 20 Mill
 ionen Menschen in Deutschland wollen sie vertreiben. Ganz offen diskutier
 en Nazis\, Identitäre\, AfD-Vertreter*innen und Rechtskonservative über
  ihre menschenverachtenden Pläne. Getrieben vom Hass gegen alles (vermei
 ntlich) Fremde\, wollen sie Verfassungsgrundsätze aus dem Weg schaffen. 
 Selbst Deutsche mit Migrationsgeschichte\, obwohl sie eigentlich durch ih
 ren Pass besonders geschützt sind\, sollen nicht verschont bleiben.\n\nU
 nter der Überschrift „Deportationspläne von AfD & Co - Kommt jetzt da
 s AfD-Verbot?“ wollen die Osnabrücker GRÜNEN gemeinsam mit dem Strafr
 echtsanwalt Thomas Klein eine juristische Bewertung und politische Einord
 nung der jüngsten Enthüllungen über die AfD und ihre rechtsextremen Mi
 tstreiter*innen vornehmen und über die Chancen und Risiken eines AfD-Ver
 bots reden.
CLASS:PUBLIC
DTSTART;TZID=Europe/Berlin:20240124T190000
DTEND;TZID=Europe/Berlin:20240124T210000
DTSTAMP:20260423T054444
END:VEVENT
END:VCALENDAR