BEGIN:VCALENDAR
VERSION:2.0
PRODID:gruene-os.de
METHOD:PUBLISH
BEGIN:VTIMEZONE
TZID:Europe/Berlin
X-LIC-LOCATION:Europe/Berlin
BEGIN:DAYLIGHT
TZOFFSETFROM:+0100
TZOFFSETTO:+0200
TZNAME:CEST
DTSTART:19700329T020000
RRULE:FREQ=YEARLY;INTERVAL=1;BYDAY=-1SU;BYMONTH=3
END:DAYLIGHT
BEGIN:STANDARD
TZOFFSETFROM:+0200
TZOFFSETTO:+0100
TZNAME:CET
DTSTART:19701025T030000
RRULE:FREQ=YEARLY;INTERVAL=1;BYDAY=-1SU;BYMONTH=10
END:STANDARD
END:VTIMEZONE
BEGIN:VEVENT
UID:3bb1b2eb14c19ad6307585c22b76bedc@gruene-os.de
URL;VALUE=URI:https://gruene-os.de/blog/termine/4-gruene-mitgliederversam
 mlung/
LOCATION:Lagerhalle, Rolandsmauer 26, Osnabrück
SUMMARY:4. GRÜNE Mitgliederversammlung
DESCRIPTION;ALTREP="data:text/html,%0A%3Cp%3ELiebe%20Freund%2Ainnen%2C%20
 %3C%2Fp%3E%0A%0A%0A%0A%3Cp%3Ezusammen%20haben%20wir%20in%20diesem%20Jahr%
 20wieder%20richtig%20viel%20erreicht%2C%20denn%20die%20GR%C3%9CNEN%20habe
 n%20bei%20der%20Landtagswahl%20ihr%20historisch%20bestes%20Ergebnis%20geh
 olt%21%20Besonders%20auf%20das%20Ergebnis%20in%20Osnabr%C3%BCck%20k%C3%B6
 nnen%20wir%20stolz%20sein.%20Mit%20Anne%20und%20Volker%20vertreten%20zum%
 20ersten%20Mal%20gleich%20zwei%20GR%C3%9CNE%20Abgeordnete%20Osnabr%C3%BCc
 k%20im%20Landtag.%20Im%20Moment%20verhandeln%20in%20Hannover%20noch%20SPD
 %20und%20GR%C3%9CNE%20%C3%BCber%20den%20Koalitionsvertrag.%20Wir%20sind%2
 0zuversichtlich%2C%20dass%20unsere%20Verhandler%2Ainnen%20ein%20gutes%20E
 rgebnis%20erzielen%20werden%2C%20damit%20wir%20dann%20auch%20gem%C3%A4%C3
 %9F%20unseres%20Wahlslogans%20Niedersachsen%20endlich%20gr%C3%BCner%20und
 %20gerechter%20machen%20k%C3%B6nnen.%3C%2Fp%3E%0A%0A%0A%0A%3Cp%3EWir%20m%
 C3%B6chten%20mit%20Euch%20auf%20das%20vergangene%20Jahr%20zur%C3%BCckblic
 ken%20und%20laden%20Euch%20deshalb%20am%2016.%20November%20um%2019%20Uhr%
 20in%20die%20Lagerhalle%20in%20den%20Saal%20zur%204.%20Mitgliederversamml
 ung%20des%20Jahres%20ein.%20Hierbei%20diskutieren%20wir%20mit%20Euch%20%C
 3%BCber%20den%20Wahlkampf%2C%20die%20Wahlergebnisse%20und%20vor%20allem%2
 0%C3%BCber%20die%20dann%20hoffentlich%20frisch%20konstituierte%20rot-gr%C
 3%BCne%20Landesregierung.%20Unsere%20beiden%20Landtagsabgeordneten%20Anne
 %20und%20Volker%20sind%20auch%20mit%20dabei%21%3Cbr%3E%3Cbr%3EDer%20Vorst
 and%20wird%20den%20Rechenschaftsbericht%20der%20letzten%20Vorstandsperiod
 e%20erl%C3%A4utern%2C%20der%20Euch%20im%20Laufe%20der%20n%C3%A4chsten%20b
 eiden%20Wochen%20auch%20per%20E-Mail%20zugesandt%20wird.%20Au%C3%9Ferdem%
 20stehen%20Vorstands-%20und%20Kassenpr%C3%BCfer%2Ainnenwahlen%20an.%20Der
 %20siebenk%C3%B6pfige%20Vorstand%20und%20die%20Kassenpr%C3%BCfer%2Ainnen%
 20m%C3%BCssen%20f%C3%BCr%20die%20n%C3%A4chsten%20zwei%20Jahre%20neu%20gew
 %C3%A4hlt%20werden.%20%3C%2Fp%3E%0A%0A%0A%0A%3Cp%3EAlle%20sind%20herzlich
 %20eingeladen%2C%20sich%20zur%20Wahl%20zu%20stellen.%20Daf%C3%BCr%20w%C3%
 A4re%20es%20gut%2C%20uns%20eine%20schriftliche%20Bewerbung%20bis%20zum%20
 9.%20November%20als%20PDF%20per%20Mail%20zu%20schicken%2C%20damit%20wir%2
 0sie%20vorher%20noch%20allen%20Mitgliedern%20zukommen%20lassen%20k%C3%B6n
 nen.%20Eine%20spontane%20Bewerbung%20vor%20Ort%20ist%20auch%20immer%20m%C
 3%B6glich.%20Wenn%20ihr%20Fragen%20zu%20den%20jeweiligen%20%C3%84mtern%20
 oder%20einer%20Bewerbung%20habt%2C%20meldet%20Euch%20gerne%20bei%20uns%3A
 %20partei%40gruene-os.de%3Cbr%3E%3C%2Fp%3E%0A%0A%0A%0A%3Cp%3EHier%20die%2
 0von%20uns%20vorgeschlagene%20Tagesordnung%3A%3C%2Fp%3E%0A%0A%0A%0A%3Col%
 20class%3D%22wp-block-list%22%3E%3Cli%3EBegr%C3%BC%C3%9Fung%3C%2Fli%3E%3C
 li%3ELandtagswahl%202022%3C%2Fli%3E%3Cli%3ESatzungs%C3%A4nderungen%3C%2Fl
 i%3E%3Cli%3ERechenschaftsbericht%20und%20Entlastung%20des%20Vorstands%3C%
 2Fli%3E%3Cli%3EWahl%20des%20Vorstands%3C%2Fli%3E%3Cli%3EWahl%20der%20Kass
 enpr%C3%BCfer%2Ainnen%3C%2Fli%3E%3Cli%3EBericht%20aus%20der%20Fraktion%3C
 %2Fli%3E%3Cli%3ESonstiges%3C%2Fli%3E%3C%2Fol%3E%0A%0A%0A%0A%3Cp%3EWir%20f
 reuen%20uns%20auf%20die%20Mitgliederversammlung%20und%20den%20Austausch%2
 0mit%20Euch%21%20Wenn%20Ihr%20Fragen%20oder%20Anregungen%20habt%2C%20meld
 et%20Euch%20gerne%20bei%20uns.%3Cbr%3EBitte%20ber%C3%BCcksichtigt%20die%2
 0am%2016.%20November%20geltenden%20Corona-Regeln.%3Cbr%3EGR%C3%9CNE%20Gr%
 C3%BC%C3%9Fe%3Cbr%3EEuer%20Vorstand%3C%2Fp%3E%0A":Liebe Freund*innen\,\n\
 nzusammen haben wir in diesem Jahr wieder richtig viel erreicht\, denn di
 e GRÜNEN haben bei der Landtagswahl ihr historisch bestes Ergebnis gehol
 t! Besonders auf das Ergebnis in Osnabrück können wir stolz sein. Mit A
 nne und Volker vertreten zum ersten Mal gleich zwei GRÜNE Abgeordnete Os
 nabrück im Landtag. Im Moment verhandeln in Hannover noch SPD und GRÜNE
  über den Koalitionsvertrag. Wir sind zuversichtlich\, dass unsere Verha
 ndler*innen ein gutes Ergebnis erzielen werden\, damit wir dann auch gem
 äß unseres Wahlslogans Niedersachsen endlich grüner und gerechter mach
 en können.\n\nWir möchten mit Euch auf das vergangene Jahr zurückblick
 en und laden Euch deshalb am 16. November um 19 Uhr in die Lagerhalle in 
 den Saal zur 4. Mitgliederversammlung des Jahres ein. Hierbei diskutieren
  wir mit Euch über den Wahlkampf\, die Wahlergebnisse und vor allem übe
 r die dann hoffentlich frisch konstituierte rot-grüne Landesregierung. U
 nsere beiden Landtagsabgeordneten Anne und Volker sind auch mit dabei!Der
  Vorstand wird den Rechenschaftsbericht der letzten Vorstandsperiode erl
 äutern\, der Euch im Laufe der nächsten beiden Wochen auch per E-Mail z
 ugesandt wird. Außerdem stehen Vorstands- und Kassenprüfer*innenwahlen 
 an. Der siebenköpfige Vorstand und die Kassenprüfer*innen müssen für 
 die nächsten zwei Jahre neu gewählt werden.\n\nAlle sind herzlich einge
 laden\, sich zur Wahl zu stellen. Dafür wäre es gut\, uns eine schriftl
 iche Bewerbung bis zum 9. November als PDF per Mail zu schicken\, damit w
 ir sie vorher noch allen Mitgliedern zukommen lassen können. Eine sponta
 ne Bewerbung vor Ort ist auch immer möglich. Wenn ihr Fragen zu den jewe
 iligen Ämtern oder einer Bewerbung habt\, meldet Euch gerne bei uns: par
 tei@gruene-os.de\n\nHier die von uns vorgeschlagene Tagesordnung:\n\nBegr
 üßungLandtagswahl 2022SatzungsänderungenRechenschaftsbericht und Entla
 stung des VorstandsWahl des VorstandsWahl der Kassenprüfer*innenBericht 
 aus der FraktionSonstiges\n\nWir freuen uns auf die Mitgliederversammlung
  und den Austausch mit Euch! Wenn Ihr Fragen oder Anregungen habt\, melde
 t Euch gerne bei uns.Bitte berücksichtigt die am 16. November geltenden 
 Corona-Regeln.GRÜNE GrüßeEuer Vorstand
CLASS:PUBLIC
DTSTART;TZID=Europe/Berlin:20221116T190000
DTEND;TZID=Europe/Berlin:20221116T220000
DTSTAMP:20260420T005411
END:VEVENT
END:VCALENDAR