BEGIN:VCALENDAR
VERSION:2.0
PRODID:gruene-os.de
METHOD:PUBLISH
BEGIN:VTIMEZONE
TZID:Europe/Berlin
X-LIC-LOCATION:Europe/Berlin
BEGIN:DAYLIGHT
TZOFFSETFROM:+0100
TZOFFSETTO:+0200
TZNAME:CEST
DTSTART:19700329T020000
RRULE:FREQ=YEARLY;INTERVAL=1;BYDAY=-1SU;BYMONTH=3
END:DAYLIGHT
BEGIN:STANDARD
TZOFFSETFROM:+0200
TZOFFSETTO:+0100
TZNAME:CET
DTSTART:19701025T030000
RRULE:FREQ=YEARLY;INTERVAL=1;BYDAY=-1SU;BYMONTH=10
END:STANDARD
END:VTIMEZONE
BEGIN:VEVENT
UID:7aaa436b0d4b729ad9f76f1761e8abf8@gruene-os.de
URL;VALUE=URI:https://gruene-os.de/blog/termine/3021/
LOCATION:
SUMMARY:Projektgruppentreffen Wirtschaft
DESCRIPTION;ALTREP="data:text/html,%0A%3Cp%3EAm%20Dienstag%201.%20Juli%2C
 %20um%2019%3A00%20trifft%20sich%20die%20Projektgruppe%20Wirtschaft.%20Im%
 20Mittelpunkt%20der%20Arbeit%20der%20Projektgruppe%20steht%20die%20Frage%
 2C%20wie%20GR%C3%9CNE%20Politik%20auf%20kommunaler%20Ebene%20dazu%20beitr
 agen%20kann%2C%20die%20lokale%20Wirtschaft%20zu%20st%C3%A4rken%20%E2%80%9
 3%20im%20Einklang%20mit%20Klimaschutz%20und%20Nachhaltigkeit.%3C%2Fp%3E%0
 A%0A%0A%0A%3Cp%3EAuch%20interessierte%20Nicht-Mitglieder%20sind%20herzlic
 h%20willkommen.%20Wenn%20Du%20dabei%20sein%20willst%2C%20melde%20Dich%20a
 m%20besten%20bei%26nbsp%3B%3Ca%20href%3D%22https%3A%2F%2Fgruene-os.de%2Fb
 log%2Ftermine%2Fprojektgruppentreffen-tierschutz-2%2F%23%22%3Epartei%40gr
 uene-os.de%3C%2Fa%3E.%20Du%20kannst%20aber%20auch%20spontan%20vorbeikomme
 n.%3C%2Fp%3E%0A%0A%0A%0A%3Cp%3E%3Cem%3EOrt%20folgt%20in%20k%C3%BCrze.%3C%
 2Fem%3E%3C%2Fp%3E%0A%0A%0A%0A%3Cp%3E%3C%2Fp%3E%0A":Am Dienstag 1. Juli\, 
 um 19:00 trifft sich die Projektgruppe Wirtschaft. Im Mittelpunkt der Arb
 eit der Projektgruppe steht die Frage\, wie GRÜNE Politik auf kommunaler
  Ebene dazu beitragen kann\, die lokale Wirtschaft zu stärken – im Ein
 klang mit Klimaschutz und Nachhaltigkeit.\n\nAuch interessierte Nicht-Mit
 glieder sind herzlich willkommen. Wenn Du dabei sein willst\, melde Dich 
 am besten bei partei@gruene-os.de. Du kannst aber auch spontan vorbeikom
 men.\n\nOrt folgt in kürze.
CLASS:PUBLIC
DTSTART;TZID=Europe/Berlin:20250701T190000
DTEND;TZID=Europe/Berlin:20250701T200000
DTSTAMP:20260424T193707
END:VEVENT
END:VCALENDAR