BEGIN:VCALENDAR
VERSION:2.0
PRODID:gruene-os.de
METHOD:PUBLISH
BEGIN:VTIMEZONE
TZID:Europe/Berlin
X-LIC-LOCATION:Europe/Berlin
BEGIN:DAYLIGHT
TZOFFSETFROM:+0100
TZOFFSETTO:+0200
TZNAME:CEST
DTSTART:19700329T020000
RRULE:FREQ=YEARLY;INTERVAL=1;BYDAY=-1SU;BYMONTH=3
END:DAYLIGHT
BEGIN:STANDARD
TZOFFSETFROM:+0200
TZOFFSETTO:+0100
TZNAME:CET
DTSTART:19701025T030000
RRULE:FREQ=YEARLY;INTERVAL=1;BYDAY=-1SU;BYMONTH=10
END:STANDARD
END:VTIMEZONE
BEGIN:VEVENT
UID:dc5ef4a3bf66e139d2fb9ad8c613b01d@gruene-os.de
URL;VALUE=URI:https://gruene-os.de/blog/termine/1-treffen-der-projektgrup
 pe-kultur/
LOCATION:Hase29, Hasestraße 29, Osnabrück
SUMMARY:1. Treffen der Projektgruppe Kultur
DESCRIPTION;ALTREP="data:text/html,%0A%3Cp%3EAm%20Mittwoch%2C%2016.%20Apr
 il%2C%20um%2018%20Uhr%20trifft%20sich%20unsere%20neue%20Projektgruppe%20K
 ultur%20zum%20ersten%20Mal.%20Unser%20Ratsmitglied%20Sebastian%20Bracke%2
 0ist%20mit%20dabei%20und%20wird%20einen%20Einblick%20zu%20dem%20Thema%20i
 n%20der%20Kommunalpolitik%20geben.%3C%2Fp%3E%0A%0A%0A%0A%3Cp%3E%3C%2Fp%3E
 %0A":Am Mittwoch\, 16. April\, um 18 Uhr trifft sich unsere neue Projektg
 ruppe Kultur zum ersten Mal. Unser Ratsmitglied Sebastian Bracke ist mit 
 dabei und wird einen Einblick zu dem Thema in der Kommunalpolitik geben.
CLASS:PUBLIC
DTSTART;TZID=Europe/Berlin:20250416T180000
DTEND;TZID=Europe/Berlin:20250416T190000
DTSTAMP:20260424T194209
END:VEVENT
END:VCALENDAR