BEGIN:VCALENDAR
VERSION:2.0
PRODID:gruene-os.de
METHOD:PUBLISH
BEGIN:VTIMEZONE
TZID:Europe/Berlin
X-LIC-LOCATION:Europe/Berlin
BEGIN:DAYLIGHT
TZOFFSETFROM:+0100
TZOFFSETTO:+0200
TZNAME:CEST
DTSTART:19700329T020000
RRULE:FREQ=YEARLY;INTERVAL=1;BYDAY=-1SU;BYMONTH=3
END:DAYLIGHT
BEGIN:STANDARD
TZOFFSETFROM:+0200
TZOFFSETTO:+0100
TZNAME:CET
DTSTART:19701025T030000
RRULE:FREQ=YEARLY;INTERVAL=1;BYDAY=-1SU;BYMONTH=10
END:STANDARD
END:VTIMEZONE
BEGIN:VEVENT
UID:12a91ad5170060a5b29a80967094c961@gruene-os.de
URL;VALUE=URI:https://gruene-os.de/blog/termine/1-treffen-der-projektgrup
 pe-gesundheit-pflege/
LOCATION:GRÜNES Zentrum, Große Straße 55, Osnabrück
SUMMARY:1. Treffen der Projektgruppe Gesundheit & Pflege
DESCRIPTION;ALTREP="data:text/html,%0A%3Cp%3EAm%20Donnerstag%2C%2013%20M%
 C3%A4rz%2C%20um%2018%20Uhr%20trifft%20sich%20unsere%20neue%20Projektgrupp
 e%20Gesundheit%20und%20Pflege%20zum%20ersten%20Mal.%20Unser%20Ratsmitglie
 d%20Martin%20B%C3%BCker%20ist%20mit%20dabei%20und%20wird%20einen%20Einbli
 ck%20zu%20dem%20Thema%20in%20der%20Kommunalpolitik%20geben.%20%3C%2Fp%3E%
 0A%0A%0A%0A%3Cp%3E%3Cem%3EHinweis%3A%20Das%20GR%C3%9CNE%20Zentrum%20ist%2
 0leider%20nicht%20barrierefrei.%20In%20Zukunft%20werden%20die%20Projektgr
 uppentreffen%20aber%20in%20einem%20barrierefreien%20Raum%20stattfinden.%2
 0%20%3C%2Fem%3E%3C%2Fp%3E%0A":Am Donnerstag\, 13 März\, um 18 Uhr trifft
  sich unsere neue Projektgruppe Gesundheit und Pflege zum ersten Mal. Uns
 er Ratsmitglied Martin Büker ist mit dabei und wird einen Einblick zu de
 m Thema in der Kommunalpolitik geben.\n\nHinweis: Das GRÜNE Zentrum ist 
 leider nicht barrierefrei. In Zukunft werden die Projektgruppentreffen ab
 er in einem barrierefreien Raum stattfinden.
CLASS:PUBLIC
DTSTART;TZID=Europe/Berlin:20250313T180000
DTEND;TZID=Europe/Berlin:20250313T190000
DTSTAMP:20260423T235521
END:VEVENT
END:VCALENDAR