BEGIN:VCALENDAR
VERSION:2.0
PRODID:gruene-os.de
METHOD:PUBLISH
BEGIN:VTIMEZONE
TZID:Europe/Berlin
X-LIC-LOCATION:Europe/Berlin
BEGIN:DAYLIGHT
TZOFFSETFROM:+0100
TZOFFSETTO:+0200
TZNAME:CEST
DTSTART:19700329T020000
RRULE:FREQ=YEARLY;INTERVAL=1;BYDAY=-1SU;BYMONTH=3
END:DAYLIGHT
BEGIN:STANDARD
TZOFFSETFROM:+0200
TZOFFSETTO:+0100
TZNAME:CET
DTSTART:19701025T030000
RRULE:FREQ=YEARLY;INTERVAL=1;BYDAY=-1SU;BYMONTH=10
END:STANDARD
END:VTIMEZONE
BEGIN:VEVENT
UID:8a33acb133b60a8821fb64caa6e5136d@gruene-os.de
URL;VALUE=URI:https://gruene-os.de/blog/termine/1-mitgliederversammlung/
LOCATION:Lagerhalle: Spitzboden, Rolandsmauer 26, Osnabrück
SUMMARY:Frau. Leben. Freiheit.
DESCRIPTION;ALTREP="data:text/html,%0A%3Cp%3E%3Cstrong%3EDiskussion%20zur
 %20Situation%20im%20Iran%3A%201.%20Mitgliederversammlung%20des%20Jahres%3
 C%2Fstrong%3E%3C%2Fp%3E%0A%0A%0A%0A%3Cp%3EWir%20blicken%20zur%C3%BCck%20a
 uf%20ein%20herausforderndes%20Jahr%202022.%20Neben%20dem%20Angriffskrieg%
 20Russlands%20auf%20die%20Ukraine%20und%20all%20seinen%20schweren%20Folge
 n%20bewegen%20uns%20politisch%20und%20gesellschaftlich%20auch%20die%20ber
 eits%20seit%20Monaten%20anhaltenden%20Proteste%20im%20Iran%20nach%20dem%2
 0Tod%20der%20iranischen%20Kurdin%20Jina%20Mahsa%20Amini.%20Das%20brutale%
 20Vorgehen%20des%20iranischen%20Regimes%20und%20die%20vor%20kurzem%20voll
 streckten%20Todesstrafen%20gegen%20Protestierende%20sind%20schockierend.%
 20Forderungen%20nach%20sch%C3%A4rferen%20Sanktionen%20werden%20laut%20und
 %20gleichzeitig%20droht%20ein%20Gew%C3%B6hnungseffekt%20in%20der%20intern
 ationalen%20Gemeinschaft%20einzusetzen.%20Wir%20wollen%20die%20anstehende
 %20Mitgliederversammlung%20am%2018.%20Januar%202023%20nutzen%2C%20um%20mi
 t%20den%20Iraner%2Ainnen%20Hasti%20Hosseyni%20und%20Mohammad%20Reza%20Fad
 aeebash%20ins%20Gespr%C3%A4ch%20zu%20kommen.%20Das%20Paar%20ist%202016%20
 aus%20dem%20Iran%20geflohen%20und%20organisiert%20nun%20die%20Solidarit%C
 3%A4tsdemos%20in%20Osnabr%C3%BCck%20mit.%3C%2Fp%3E%0A%0A%0A%0A%3Cp%3ENebe
 n%20der%20Diskussion%20zur%20Situation%20im%20Iran%20stehen%20auch%20wied
 er%20Wahlen%20f%C3%BCr%20die%20diesj%C3%A4hrigen%20Landesdelegiertenkonfe
 renzen%20und%20Berichte%20aus%20Partei%20und%20Fraktion%20auf%20dem%20Pro
 gramm.%20%3C%2Fp%3E%0A%0A%0A%0A%3Cp%3EWir%20freuen%20uns%20auf%20die%20Mi
 tgliederversammlung%20und%20den%20Austausch%20mit%20Euch%21%20Wenn%20Ihr%
 20Fragen%20oder%20Anregungen%20habt%2C%20meldet%20Euch%20gerne%20bei%20un
 s%3A%20partei%40gruene-os.de%20%3C%2Fp%3E%0A":Diskussion zur Situation im
  Iran: 1. Mitgliederversammlung des Jahres\n\nWir blicken zurück auf ein
  herausforderndes Jahr 2022. Neben dem Angriffskrieg Russlands auf die Uk
 raine und all seinen schweren Folgen bewegen uns politisch und gesellscha
 ftlich auch die bereits seit Monaten anhaltenden Proteste im Iran nach de
 m Tod der iranischen Kurdin Jina Mahsa Amini. Das brutale Vorgehen des ir
 anischen Regimes und die vor kurzem vollstreckten Todesstrafen gegen Prot
 estierende sind schockierend. Forderungen nach schärferen Sanktionen wer
 den laut und gleichzeitig droht ein Gewöhnungseffekt in der internationa
 len Gemeinschaft einzusetzen. Wir wollen die anstehende Mitgliederversamm
 lung am 18. Januar 2023 nutzen\, um mit den Iraner*innen Hasti Hosseyni u
 nd Mohammad Reza Fadaeebash ins Gespräch zu kommen. Das Paar ist 2016 au
 s dem Iran geflohen und organisiert nun die Solidaritätsdemos in Osnabr
 ück mit.\n\nNeben der Diskussion zur Situation im Iran stehen auch wiede
 r Wahlen für die diesjährigen Landesdelegiertenkonferenzen und Berichte
  aus Partei und Fraktion auf dem Programm.\n\nWir freuen uns auf die Mitg
 liederversammlung und den Austausch mit Euch! Wenn Ihr Fragen oder Anregu
 ngen habt\, meldet Euch gerne bei uns: partei@gruene-os.de
CLASS:PUBLIC
DTSTART;TZID=Europe/Berlin:20230118T190000
DTEND;TZID=Europe/Berlin:20230118T200000
DTSTAMP:20260424T193735
END:VEVENT
END:VCALENDAR